BEGIN:VCALENDAR
VERSION:2.0
PRODID:-//Rapid CPR and First Aid - ECPv6.15.20//NONSGML v1.0//EN
CALSCALE:GREGORIAN
METHOD:PUBLISH
X-WR-CALNAME:Rapid CPR and First Aid
X-ORIGINAL-URL:https://rapidcprwi.com
X-WR-CALDESC:Events for Rapid CPR and First Aid
REFRESH-INTERVAL;VALUE=DURATION:PT1H
X-Robots-Tag:noindex
X-PUBLISHED-TTL:PT1H
BEGIN:VTIMEZONE
TZID:America/Chicago
BEGIN:DAYLIGHT
TZOFFSETFROM:-0600
TZOFFSETTO:-0500
TZNAME:CDT
DTSTART:20250309T080000
END:DAYLIGHT
BEGIN:STANDARD
TZOFFSETFROM:-0500
TZOFFSETTO:-0600
TZNAME:CST
DTSTART:20251102T070000
END:STANDARD
BEGIN:DAYLIGHT
TZOFFSETFROM:-0600
TZOFFSETTO:-0500
TZNAME:CDT
DTSTART:20260308T080000
END:DAYLIGHT
BEGIN:STANDARD
TZOFFSETFROM:-0500
TZOFFSETTO:-0600
TZNAME:CST
DTSTART:20261101T070000
END:STANDARD
BEGIN:DAYLIGHT
TZOFFSETFROM:-0600
TZOFFSETTO:-0500
TZNAME:CDT
DTSTART:20270314T080000
END:DAYLIGHT
BEGIN:STANDARD
TZOFFSETFROM:-0500
TZOFFSETTO:-0600
TZNAME:CST
DTSTART:20271107T070000
END:STANDARD
END:VTIMEZONE
BEGIN:VEVENT
DTSTART;TZID=America/Chicago:20260106T170000
DTEND;TZID=America/Chicago:20260106T180000
DTSTAMP:20260423T065747
CREATED:20251114T170553Z
LAST-MODIFIED:20251114T170553Z
UID:10001085-1767718800-1767722400@rapidcprwi.com
SUMMARY:BLS Skill Session
DESCRIPTION:
URL:https://rapidcprwi.com/event/bls-skill-session-28/
LOCATION:Rapid CPR and First Aid\, 5610 Medical Circle\, Suite 24\, Madison\, WI\, 53719\, United States
CATEGORIES:BLS Skill Session
ORGANIZER;CN="Rapid CPR and First Aid":MAILTO:rapidcprwi@gmail.com
END:VEVENT
BEGIN:VEVENT
DTSTART;TZID=America/Chicago:20260107T083000
DTEND;TZID=America/Chicago:20260107T093000
DTSTAMP:20260423T065747
CREATED:20251114T170643Z
LAST-MODIFIED:20251114T170643Z
UID:10001086-1767774600-1767778200@rapidcprwi.com
SUMMARY:BLS Skill Session
DESCRIPTION:
URL:https://rapidcprwi.com/event/bls-skill-session-29/
LOCATION:Rapid CPR and First Aid\, 5610 Medical Circle\, Suite 24\, Madison\, WI\, 53719\, United States
CATEGORIES:BLS Skill Session
ORGANIZER;CN="Rapid CPR and First Aid":MAILTO:rapidcprwi@gmail.com
END:VEVENT
BEGIN:VEVENT
DTSTART;TZID=America/Chicago:20260108T170000
DTEND;TZID=America/Chicago:20260108T180000
DTSTAMP:20260423T065747
CREATED:20251114T170815Z
LAST-MODIFIED:20251114T170815Z
UID:10001087-1767891600-1767895200@rapidcprwi.com
SUMMARY:BLS Skill Session
DESCRIPTION:
URL:https://rapidcprwi.com/event/bls-skill-session-30/
LOCATION:Rapid CPR and First Aid\, 5610 Medical Circle\, Suite 24\, Madison\, WI\, 53719\, United States
CATEGORIES:BLS Skill Session
END:VEVENT
BEGIN:VEVENT
DTSTART;TZID=America/Chicago:20260113T170000
DTEND;TZID=America/Chicago:20260113T180000
DTSTAMP:20260423T065747
CREATED:20251114T171522Z
LAST-MODIFIED:20251114T171522Z
UID:10001088-1768323600-1768327200@rapidcprwi.com
SUMMARY:BLS Skill Session
DESCRIPTION:
URL:https://rapidcprwi.com/event/bls-skill-session-31/
LOCATION:Rapid CPR and First Aid\, 5610 Medical Circle\, Suite 24\, Madison\, WI\, 53719\, United States
CATEGORIES:BLS Skill Session
ORGANIZER;CN="Rapid CPR and First Aid":MAILTO:rapidcprwi@gmail.com
END:VEVENT
BEGIN:VEVENT
DTSTART;TZID=America/Chicago:20260114T083000
DTEND;TZID=America/Chicago:20260114T093000
DTSTAMP:20260423T065747
CREATED:20251114T171631Z
LAST-MODIFIED:20251114T171631Z
UID:10001089-1768379400-1768383000@rapidcprwi.com
SUMMARY:BLS Skill Session
DESCRIPTION:
URL:https://rapidcprwi.com/event/bls-skill-session-32/
LOCATION:Rapid CPR and First Aid\, 5610 Medical Circle\, Suite 24\, Madison\, WI\, 53719\, United States
CATEGORIES:BLS Skill Session
ORGANIZER;CN="Rapid CPR and First Aid":MAILTO:rapidcprwi@gmail.com
END:VEVENT
BEGIN:VEVENT
DTSTART;TZID=America/Chicago:20260115T170000
DTEND;TZID=America/Chicago:20260115T180000
DTSTAMP:20260423T065747
CREATED:20251114T174539Z
LAST-MODIFIED:20251114T174539Z
UID:10001090-1768496400-1768500000@rapidcprwi.com
SUMMARY:BLS Skill Session
DESCRIPTION:
URL:https://rapidcprwi.com/event/bls-skill-session-33/
LOCATION:Rapid CPR and First Aid\, 5610 Medical Circle\, Suite 24\, Madison\, WI\, 53719\, United States
CATEGORIES:BLS Skill Session
ORGANIZER;CN="Rapid CPR and First Aid":MAILTO:rapidcprwi@gmail.com
END:VEVENT
BEGIN:VEVENT
DTSTART;TZID=America/Chicago:20260119T170000
DTEND;TZID=America/Chicago:20260119T180000
DTSTAMP:20260423T065747
CREATED:20251114T174628Z
LAST-MODIFIED:20251114T174628Z
UID:10001091-1768842000-1768845600@rapidcprwi.com
SUMMARY:BLS Skill Session
DESCRIPTION:
URL:https://rapidcprwi.com/event/bls-skill-session-34/
LOCATION:Rapid CPR and First Aid\, 5610 Medical Circle\, Suite 24\, Madison\, WI\, 53719\, United States
CATEGORIES:BLS Skill Session
ORGANIZER;CN="Rapid CPR and First Aid":MAILTO:rapidcprwi@gmail.com
END:VEVENT
BEGIN:VEVENT
DTSTART;TZID=America/Chicago:20260120T083000
DTEND;TZID=America/Chicago:20260120T213000
DTSTAMP:20260423T065747
CREATED:20251114T182212Z
LAST-MODIFIED:20251114T182212Z
UID:10001092-1768897800-1768944600@rapidcprwi.com
SUMMARY:BLS Skill Session
DESCRIPTION:
URL:https://rapidcprwi.com/event/bls-skill-session-35/
LOCATION:Rapid CPR and First Aid\, 5610 Medical Circle\, Suite 24\, Madison\, WI\, 53719\, United States
CATEGORIES:BLS Skill Session
ORGANIZER;CN="Rapid CPR and First Aid":MAILTO:rapidcprwi@gmail.com
END:VEVENT
BEGIN:VEVENT
DTSTART;TZID=America/Chicago:20260128T083000
DTEND;TZID=America/Chicago:20260128T093000
DTSTAMP:20260423T065747
CREATED:20251114T182317Z
LAST-MODIFIED:20251114T182317Z
UID:10001093-1769589000-1769592600@rapidcprwi.com
SUMMARY:BLS Skill Session
DESCRIPTION:
URL:https://rapidcprwi.com/event/bls-skill-session-36/
LOCATION:Rapid CPR and First Aid\, 5610 Medical Circle\, Suite 24\, Madison\, WI\, 53719\, United States
CATEGORIES:BLS Skill Session
ORGANIZER;CN="Rapid CPR and First Aid":MAILTO:rapidcprwi@gmail.com
END:VEVENT
BEGIN:VEVENT
DTSTART;TZID=America/Chicago:20260129T170000
DTEND;TZID=America/Chicago:20260129T180000
DTSTAMP:20260423T065747
CREATED:20251114T182355Z
LAST-MODIFIED:20251114T182355Z
UID:10001094-1769706000-1769709600@rapidcprwi.com
SUMMARY:BLS Skill Session
DESCRIPTION:
URL:https://rapidcprwi.com/event/bls-skill-session-37/
LOCATION:Rapid CPR and First Aid\, 5610 Medical Circle\, Suite 24\, Madison\, WI\, 53719\, United States
CATEGORIES:BLS Skill Session
ORGANIZER;CN="Rapid CPR and First Aid":MAILTO:rapidcprwi@gmail.com
END:VEVENT
END:VCALENDAR