BEGIN:VCALENDAR
VERSION:2.0
PRODID:-//Rapid CPR and First Aid - ECPv6.15.20//NONSGML v1.0//EN
CALSCALE:GREGORIAN
METHOD:PUBLISH
X-ORIGINAL-URL:https://rapidcprwi.com
X-WR-CALDESC:Events for Rapid CPR and First Aid
REFRESH-INTERVAL;VALUE=DURATION:PT1H
X-Robots-Tag:noindex
X-PUBLISHED-TTL:PT1H
BEGIN:VTIMEZONE
TZID:America/Chicago
BEGIN:DAYLIGHT
TZOFFSETFROM:-0600
TZOFFSETTO:-0500
TZNAME:CDT
DTSTART:20240310T080000
END:DAYLIGHT
BEGIN:STANDARD
TZOFFSETFROM:-0500
TZOFFSETTO:-0600
TZNAME:CST
DTSTART:20241103T070000
END:STANDARD
BEGIN:DAYLIGHT
TZOFFSETFROM:-0600
TZOFFSETTO:-0500
TZNAME:CDT
DTSTART:20250309T080000
END:DAYLIGHT
BEGIN:STANDARD
TZOFFSETFROM:-0500
TZOFFSETTO:-0600
TZNAME:CST
DTSTART:20251102T070000
END:STANDARD
BEGIN:DAYLIGHT
TZOFFSETFROM:-0600
TZOFFSETTO:-0500
TZNAME:CDT
DTSTART:20260308T080000
END:DAYLIGHT
BEGIN:STANDARD
TZOFFSETFROM:-0500
TZOFFSETTO:-0600
TZNAME:CST
DTSTART:20261101T070000
END:STANDARD
BEGIN:DAYLIGHT
TZOFFSETFROM:-0600
TZOFFSETTO:-0500
TZNAME:CDT
DTSTART:20270314T080000
END:DAYLIGHT
BEGIN:STANDARD
TZOFFSETFROM:-0500
TZOFFSETTO:-0600
TZNAME:CST
DTSTART:20271107T070000
END:STANDARD
END:VTIMEZONE
BEGIN:VEVENT
DTSTART;TZID=America/Chicago:20260218T083000
DTEND;TZID=America/Chicago:20260218T093000
DTSTAMP:20260423T082820
CREATED:20251230T195913Z
LAST-MODIFIED:20251230T195913Z
UID:10001140-1771403400-1771407000@rapidcprwi.com
SUMMARY:BLS Skill Session
DESCRIPTION:
URL:https://rapidcprwi.com/event/bls-skill-session-45/
LOCATION:Rapid CPR and First Aid\, 5610 Medical Circle\, Suite 24\, Madison\, WI\, 53719\, United States
CATEGORIES:BLS Skill Session
ORGANIZER;CN="Rapid CPR and First Aid":MAILTO:rapidcprwi@gmail.com
END:VEVENT
BEGIN:VEVENT
DTSTART;TZID=America/Chicago:20260217T083000
DTEND;TZID=America/Chicago:20260217T093000
DTSTAMP:20260423T082820
CREATED:20251230T195830Z
LAST-MODIFIED:20251230T195830Z
UID:10001139-1771317000-1771320600@rapidcprwi.com
SUMMARY:BLS Skill Session
DESCRIPTION:
URL:https://rapidcprwi.com/event/bls-skill-session-44/
LOCATION:Rapid CPR and First Aid\, 5610 Medical Circle\, Suite 24\, Madison\, WI\, 53719\, United States
CATEGORIES:BLS Skill Session
ORGANIZER;CN="Rapid CPR and First Aid":MAILTO:rapidcprwi@gmail.com
END:VEVENT
BEGIN:VEVENT
DTSTART;TZID=America/Chicago:20260211T083000
DTEND;TZID=America/Chicago:20260211T093000
DTSTAMP:20260423T082820
CREATED:20251230T195613Z
LAST-MODIFIED:20251230T195613Z
UID:10001137-1770798600-1770802200@rapidcprwi.com
SUMMARY:BLS Skill Session
DESCRIPTION:
URL:https://rapidcprwi.com/event/bls-skill-session-42/
LOCATION:Rapid CPR and First Aid\, 5610 Medical Circle\, Suite 24\, Madison\, WI\, 53719\, United States
CATEGORIES:BLS Skill Session
ORGANIZER;CN="Rapid CPR and First Aid":MAILTO:rapidcprwi@gmail.com
END:VEVENT
BEGIN:VEVENT
DTSTART;TZID=America/Chicago:20260210T170000
DTEND;TZID=America/Chicago:20260210T180000
DTSTAMP:20260423T082820
CREATED:20251230T195529Z
LAST-MODIFIED:20251230T195529Z
UID:10001136-1770742800-1770746400@rapidcprwi.com
SUMMARY:BLS Skill Session
DESCRIPTION:
URL:https://rapidcprwi.com/event/bls-skill-session-41/
LOCATION:Rapid CPR and First Aid\, 5610 Medical Circle\, Suite 24\, Madison\, WI\, 53719\, United States
CATEGORIES:BLS Skill Session
ORGANIZER;CN="Rapid CPR and First Aid":MAILTO:rapidcprwi@gmail.com
END:VEVENT
BEGIN:VEVENT
DTSTART;TZID=America/Chicago:20260205T170000
DTEND;TZID=America/Chicago:20260205T180000
DTSTAMP:20260423T082820
CREATED:20251230T195447Z
LAST-MODIFIED:20251230T195447Z
UID:10001135-1770310800-1770314400@rapidcprwi.com
SUMMARY:BLS Skill Session
DESCRIPTION:
URL:https://rapidcprwi.com/event/bls-skill-session-40/
LOCATION:Rapid CPR and First Aid\, 5610 Medical Circle\, Suite 24\, Madison\, WI\, 53719\, United States
CATEGORIES:BLS Skill Session
ORGANIZER;CN="Rapid CPR and First Aid":MAILTO:rapidcprwi@gmail.com
END:VEVENT
BEGIN:VEVENT
DTSTART;TZID=America/Chicago:20260204T083000
DTEND;TZID=America/Chicago:20260204T093000
DTSTAMP:20260423T082820
CREATED:20251230T195403Z
LAST-MODIFIED:20251230T195403Z
UID:10001134-1770193800-1770197400@rapidcprwi.com
SUMMARY:BLS Skill Session
DESCRIPTION:
URL:https://rapidcprwi.com/event/bls-skill-session-39/
LOCATION:Rapid CPR and First Aid\, 5610 Medical Circle\, Suite 24\, Madison\, WI\, 53719\, United States
CATEGORIES:BLS Skill Session
ORGANIZER;CN="Rapid CPR and First Aid":MAILTO:rapidcprwi@gmail.com
END:VEVENT
BEGIN:VEVENT
DTSTART;TZID=America/Chicago:20260203T170000
DTEND;TZID=America/Chicago:20260203T180000
DTSTAMP:20260423T082820
CREATED:20251230T195319Z
LAST-MODIFIED:20251230T195319Z
UID:10001133-1770138000-1770141600@rapidcprwi.com
SUMMARY:BLS Skill Session
DESCRIPTION:
URL:https://rapidcprwi.com/event/bls-skill-session-38/
LOCATION:Rapid CPR and First Aid\, 5610 Medical Circle\, Suite 24\, Madison\, WI\, 53719\, United States
CATEGORIES:BLS Skill Session
ORGANIZER;CN="Rapid CPR and First Aid":MAILTO:rapidcprwi@gmail.com
END:VEVENT
BEGIN:VEVENT
DTSTART;TZID=America/Chicago:20260129T170000
DTEND;TZID=America/Chicago:20260129T180000
DTSTAMP:20260423T082820
CREATED:20251114T182355Z
LAST-MODIFIED:20251114T182355Z
UID:10001094-1769706000-1769709600@rapidcprwi.com
SUMMARY:BLS Skill Session
DESCRIPTION:
URL:https://rapidcprwi.com/event/bls-skill-session-37/
LOCATION:Rapid CPR and First Aid\, 5610 Medical Circle\, Suite 24\, Madison\, WI\, 53719\, United States
CATEGORIES:BLS Skill Session
ORGANIZER;CN="Rapid CPR and First Aid":MAILTO:rapidcprwi@gmail.com
END:VEVENT
BEGIN:VEVENT
DTSTART;TZID=America/Chicago:20260128T083000
DTEND;TZID=America/Chicago:20260128T093000
DTSTAMP:20260423T082820
CREATED:20251114T182317Z
LAST-MODIFIED:20251114T182317Z
UID:10001093-1769589000-1769592600@rapidcprwi.com
SUMMARY:BLS Skill Session
DESCRIPTION:
URL:https://rapidcprwi.com/event/bls-skill-session-36/
LOCATION:Rapid CPR and First Aid\, 5610 Medical Circle\, Suite 24\, Madison\, WI\, 53719\, United States
CATEGORIES:BLS Skill Session
ORGANIZER;CN="Rapid CPR and First Aid":MAILTO:rapidcprwi@gmail.com
END:VEVENT
BEGIN:VEVENT
DTSTART;TZID=America/Chicago:20260120T083000
DTEND;TZID=America/Chicago:20260120T213000
DTSTAMP:20260423T082820
CREATED:20251114T182212Z
LAST-MODIFIED:20251114T182212Z
UID:10001092-1768897800-1768944600@rapidcprwi.com
SUMMARY:BLS Skill Session
DESCRIPTION:
URL:https://rapidcprwi.com/event/bls-skill-session-35/
LOCATION:Rapid CPR and First Aid\, 5610 Medical Circle\, Suite 24\, Madison\, WI\, 53719\, United States
CATEGORIES:BLS Skill Session
ORGANIZER;CN="Rapid CPR and First Aid":MAILTO:rapidcprwi@gmail.com
END:VEVENT
BEGIN:VEVENT
DTSTART;TZID=America/Chicago:20260119T170000
DTEND;TZID=America/Chicago:20260119T180000
DTSTAMP:20260423T082820
CREATED:20251114T174628Z
LAST-MODIFIED:20251114T174628Z
UID:10001091-1768842000-1768845600@rapidcprwi.com
SUMMARY:BLS Skill Session
DESCRIPTION:
URL:https://rapidcprwi.com/event/bls-skill-session-34/
LOCATION:Rapid CPR and First Aid\, 5610 Medical Circle\, Suite 24\, Madison\, WI\, 53719\, United States
CATEGORIES:BLS Skill Session
ORGANIZER;CN="Rapid CPR and First Aid":MAILTO:rapidcprwi@gmail.com
END:VEVENT
BEGIN:VEVENT
DTSTART;TZID=America/Chicago:20260115T170000
DTEND;TZID=America/Chicago:20260115T180000
DTSTAMP:20260423T082820
CREATED:20251114T174539Z
LAST-MODIFIED:20251114T174539Z
UID:10001090-1768496400-1768500000@rapidcprwi.com
SUMMARY:BLS Skill Session
DESCRIPTION:
URL:https://rapidcprwi.com/event/bls-skill-session-33/
LOCATION:Rapid CPR and First Aid\, 5610 Medical Circle\, Suite 24\, Madison\, WI\, 53719\, United States
CATEGORIES:BLS Skill Session
ORGANIZER;CN="Rapid CPR and First Aid":MAILTO:rapidcprwi@gmail.com
END:VEVENT
BEGIN:VEVENT
DTSTART;TZID=America/Chicago:20260114T083000
DTEND;TZID=America/Chicago:20260114T093000
DTSTAMP:20260423T082820
CREATED:20251114T171631Z
LAST-MODIFIED:20251114T171631Z
UID:10001089-1768379400-1768383000@rapidcprwi.com
SUMMARY:BLS Skill Session
DESCRIPTION:
URL:https://rapidcprwi.com/event/bls-skill-session-32/
LOCATION:Rapid CPR and First Aid\, 5610 Medical Circle\, Suite 24\, Madison\, WI\, 53719\, United States
CATEGORIES:BLS Skill Session
ORGANIZER;CN="Rapid CPR and First Aid":MAILTO:rapidcprwi@gmail.com
END:VEVENT
BEGIN:VEVENT
DTSTART;TZID=America/Chicago:20260113T170000
DTEND;TZID=America/Chicago:20260113T180000
DTSTAMP:20260423T082820
CREATED:20251114T171522Z
LAST-MODIFIED:20251114T171522Z
UID:10001088-1768323600-1768327200@rapidcprwi.com
SUMMARY:BLS Skill Session
DESCRIPTION:
URL:https://rapidcprwi.com/event/bls-skill-session-31/
LOCATION:Rapid CPR and First Aid\, 5610 Medical Circle\, Suite 24\, Madison\, WI\, 53719\, United States
CATEGORIES:BLS Skill Session
ORGANIZER;CN="Rapid CPR and First Aid":MAILTO:rapidcprwi@gmail.com
END:VEVENT
BEGIN:VEVENT
DTSTART;TZID=America/Chicago:20260108T170000
DTEND;TZID=America/Chicago:20260108T180000
DTSTAMP:20260423T082820
CREATED:20251114T170815Z
LAST-MODIFIED:20251114T170815Z
UID:10001087-1767891600-1767895200@rapidcprwi.com
SUMMARY:BLS Skill Session
DESCRIPTION:
URL:https://rapidcprwi.com/event/bls-skill-session-30/
LOCATION:Rapid CPR and First Aid\, 5610 Medical Circle\, Suite 24\, Madison\, WI\, 53719\, United States
CATEGORIES:BLS Skill Session
END:VEVENT
BEGIN:VEVENT
DTSTART;TZID=America/Chicago:20260107T083000
DTEND;TZID=America/Chicago:20260107T093000
DTSTAMP:20260423T082820
CREATED:20251114T170643Z
LAST-MODIFIED:20251114T170643Z
UID:10001086-1767774600-1767778200@rapidcprwi.com
SUMMARY:BLS Skill Session
DESCRIPTION:
URL:https://rapidcprwi.com/event/bls-skill-session-29/
LOCATION:Rapid CPR and First Aid\, 5610 Medical Circle\, Suite 24\, Madison\, WI\, 53719\, United States
CATEGORIES:BLS Skill Session
ORGANIZER;CN="Rapid CPR and First Aid":MAILTO:rapidcprwi@gmail.com
END:VEVENT
BEGIN:VEVENT
DTSTART;TZID=America/Chicago:20260106T170000
DTEND;TZID=America/Chicago:20260106T180000
DTSTAMP:20260423T082820
CREATED:20251114T170553Z
LAST-MODIFIED:20251114T170553Z
UID:10001085-1767718800-1767722400@rapidcprwi.com
SUMMARY:BLS Skill Session
DESCRIPTION:
URL:https://rapidcprwi.com/event/bls-skill-session-28/
LOCATION:Rapid CPR and First Aid\, 5610 Medical Circle\, Suite 24\, Madison\, WI\, 53719\, United States
CATEGORIES:BLS Skill Session
ORGANIZER;CN="Rapid CPR and First Aid":MAILTO:rapidcprwi@gmail.com
END:VEVENT
BEGIN:VEVENT
DTSTART;TZID=America/Chicago:20251230T170000
DTEND;TZID=America/Chicago:20251230T180000
DTSTAMP:20260423T082820
CREATED:20251103T163637Z
LAST-MODIFIED:20251103T163637Z
UID:10001051-1767114000-1767117600@rapidcprwi.com
SUMMARY:BLS Skill Session
DESCRIPTION:
URL:https://rapidcprwi.com/event/bls-skill-session-27/
LOCATION:Rapid CPR and First Aid\, 5610 Medical Circle\, Suite 24\, Madison\, WI\, 53719\, United States
CATEGORIES:BLS Skill Session
ORGANIZER;CN="Rapid CPR and First Aid":MAILTO:rapidcprwi@gmail.com
END:VEVENT
BEGIN:VEVENT
DTSTART;TZID=America/Chicago:20251223T170000
DTEND;TZID=America/Chicago:20251223T180000
DTSTAMP:20260423T082820
CREATED:20251103T163553Z
LAST-MODIFIED:20251103T163553Z
UID:10001050-1766509200-1766512800@rapidcprwi.com
SUMMARY:BLS Skill Session
DESCRIPTION:
URL:https://rapidcprwi.com/event/bls-skill-session-26/
LOCATION:Rapid CPR and First Aid\, 5610 Medical Circle\, Suite 24\, Madison\, WI\, 53719\, United States
CATEGORIES:BLS Skill Session
ORGANIZER;CN="Rapid CPR and First Aid":MAILTO:rapidcprwi@gmail.com
END:VEVENT
BEGIN:VEVENT
DTSTART;TZID=America/Chicago:20251218T170000
DTEND;TZID=America/Chicago:20251218T180000
DTSTAMP:20260423T082820
CREATED:20251103T163512Z
LAST-MODIFIED:20251103T163512Z
UID:10001049-1766077200-1766080800@rapidcprwi.com
SUMMARY:BLS Skill Session
DESCRIPTION:
URL:https://rapidcprwi.com/event/bls-skill-session-25/
LOCATION:Rapid CPR and First Aid\, 5610 Medical Circle\, Suite 24\, Madison\, WI\, 53719\, United States
CATEGORIES:BLS Skill Session
ORGANIZER;CN="Rapid CPR and First Aid":MAILTO:rapidcprwi@gmail.com
END:VEVENT
BEGIN:VEVENT
DTSTART;TZID=America/Chicago:20251217T083000
DTEND;TZID=America/Chicago:20251217T093000
DTSTAMP:20260423T082820
CREATED:20251103T163428Z
LAST-MODIFIED:20251103T163428Z
UID:10001048-1765960200-1765963800@rapidcprwi.com
SUMMARY:BLS Skill Session
DESCRIPTION:
URL:https://rapidcprwi.com/event/bls-skill-session-24/
LOCATION:Rapid CPR and First Aid\, 5610 Medical Circle\, Suite 24\, Madison\, WI\, 53719\, United States
CATEGORIES:BLS Skill Session
ORGANIZER;CN="Rapid CPR and First Aid":MAILTO:rapidcprwi@gmail.com
END:VEVENT
BEGIN:VEVENT
DTSTART;TZID=America/Chicago:20251216T170000
DTEND;TZID=America/Chicago:20251216T180000
DTSTAMP:20260423T082820
CREATED:20251103T163345Z
LAST-MODIFIED:20251103T163345Z
UID:10001047-1765904400-1765908000@rapidcprwi.com
SUMMARY:BLS Skill Session
DESCRIPTION:
URL:https://rapidcprwi.com/event/bls-skill-session-23/
LOCATION:Rapid CPR and First Aid\, 5610 Medical Circle\, Suite 24\, Madison\, WI\, 53719\, United States
CATEGORIES:BLS Skill Session
ORGANIZER;CN="Rapid CPR and First Aid":MAILTO:rapidcprwi@gmail.com
END:VEVENT
BEGIN:VEVENT
DTSTART;TZID=America/Chicago:20251211T170000
DTEND;TZID=America/Chicago:20251211T180000
DTSTAMP:20260423T082820
CREATED:20251103T163202Z
LAST-MODIFIED:20251103T163202Z
UID:10001046-1765472400-1765476000@rapidcprwi.com
SUMMARY:BLS Skill Session
DESCRIPTION:
URL:https://rapidcprwi.com/event/bls-skill-session-22/
LOCATION:Rapid CPR and First Aid\, 5610 Medical Circle\, Suite 24\, Madison\, WI\, 53719\, United States
CATEGORIES:BLS Skill Session
ORGANIZER;CN="Rapid CPR and First Aid":MAILTO:rapidcprwi@gmail.com
END:VEVENT
BEGIN:VEVENT
DTSTART;TZID=America/Chicago:20251210T083000
DTEND;TZID=America/Chicago:20251210T093000
DTSTAMP:20260423T082820
CREATED:20251103T163109Z
LAST-MODIFIED:20251103T163109Z
UID:10001045-1765355400-1765359000@rapidcprwi.com
SUMMARY:BLS Skill Session
DESCRIPTION:
URL:https://rapidcprwi.com/event/bls-skill-session-21/
LOCATION:Rapid CPR and First Aid\, 5610 Medical Circle\, Suite 24\, Madison\, WI\, 53719\, United States
CATEGORIES:BLS Skill Session
ORGANIZER;CN="Rapid CPR and First Aid":MAILTO:rapidcprwi@gmail.com
END:VEVENT
BEGIN:VEVENT
DTSTART;TZID=America/Chicago:20251209T170000
DTEND;TZID=America/Chicago:20251209T180000
DTSTAMP:20260423T082820
CREATED:20251103T163023Z
LAST-MODIFIED:20251103T163023Z
UID:10001044-1765299600-1765303200@rapidcprwi.com
SUMMARY:BLS Skill Session
DESCRIPTION:
URL:https://rapidcprwi.com/event/bls-skill-session-20/
LOCATION:Rapid CPR and First Aid\, 5610 Medical Circle\, Suite 24\, Madison\, WI\, 53719\, United States
CATEGORIES:BLS Skill Session
ORGANIZER;CN="Rapid CPR and First Aid":MAILTO:rapidcprwi@gmail.com
END:VEVENT
BEGIN:VEVENT
DTSTART;TZID=America/Chicago:20251204T170000
DTEND;TZID=America/Chicago:20251204T180000
DTSTAMP:20260423T082820
CREATED:20251103T162937Z
LAST-MODIFIED:20251103T162937Z
UID:10001043-1764867600-1764871200@rapidcprwi.com
SUMMARY:BLS Skill Session
DESCRIPTION:
URL:https://rapidcprwi.com/event/bls-skill-session-19/
LOCATION:Rapid CPR and First Aid\, 5610 Medical Circle\, Suite 24\, Madison\, WI\, 53719\, United States
CATEGORIES:BLS Skill Session
ORGANIZER;CN="Rapid CPR and First Aid":MAILTO:rapidcprwi@gmail.com
END:VEVENT
BEGIN:VEVENT
DTSTART;TZID=America/Chicago:20251203T083000
DTEND;TZID=America/Chicago:20251203T093000
DTSTAMP:20260423T082820
CREATED:20251103T161807Z
LAST-MODIFIED:20251103T161940Z
UID:10001041-1764750600-1764754200@rapidcprwi.com
SUMMARY:BLS Skill Session
DESCRIPTION:
URL:https://rapidcprwi.com/event/bls-skill-session-17/
LOCATION:Rapid CPR and First Aid\, 5610 Medical Circle\, Suite 24\, Madison\, WI\, 53719\, United States
CATEGORIES:BLS Skill Session
ORGANIZER;CN="Rapid CPR and First Aid":MAILTO:rapidcprwi@gmail.com
END:VEVENT
BEGIN:VEVENT
DTSTART;TZID=America/Chicago:20251202T170000
DTEND;TZID=America/Chicago:20251202T180000
DTSTAMP:20260423T082820
CREATED:20251103T161708Z
LAST-MODIFIED:20251103T161708Z
UID:10001040-1764694800-1764698400@rapidcprwi.com
SUMMARY:BLS Skill Session
DESCRIPTION:
URL:https://rapidcprwi.com/event/bls-skill-session-16/
LOCATION:Rapid CPR and First Aid\, 5610 Medical Circle\, Suite 24\, Madison\, WI\, 53719\, United States
CATEGORIES:BLS Skill Session
ORGANIZER;CN="Rapid CPR and First Aid":MAILTO:rapidcprwi@gmail.com
END:VEVENT
BEGIN:VEVENT
DTSTART;TZID=America/Chicago:20251126T083000
DTEND;TZID=America/Chicago:20251126T093000
DTSTAMP:20260423T082820
CREATED:20251002T211946Z
LAST-MODIFIED:20251002T211946Z
UID:10001000-1764145800-1764149400@rapidcprwi.com
SUMMARY:BLS Skills Session
DESCRIPTION:
URL:https://rapidcprwi.com/event/bls-skills-session-212/
LOCATION:Rapid CPR and First Aid\, 5610 Medical Circle\, Suite 24\, Madison\, WI\, 53719\, United States
CATEGORIES:BLS Skill Session
ORGANIZER;CN="Rapid CPR and First Aid":MAILTO:rapidcprwi@gmail.com
END:VEVENT
BEGIN:VEVENT
DTSTART;TZID=America/Chicago:20251125T170000
DTEND;TZID=America/Chicago:20251125T180000
DTSTAMP:20260423T082820
CREATED:20251002T211852Z
LAST-MODIFIED:20251002T211852Z
UID:10000999-1764090000-1764093600@rapidcprwi.com
SUMMARY:BLS Skills Session
DESCRIPTION:
URL:https://rapidcprwi.com/event/bls-skills-session-211/
LOCATION:Rapid CPR and First Aid\, 5610 Medical Circle\, Suite 24\, Madison\, WI\, 53719\, United States
CATEGORIES:BLS Skill Session
ORGANIZER;CN="Rapid CPR and First Aid":MAILTO:rapidcprwi@gmail.com
END:VEVENT
END:VCALENDAR