BEGIN:VCALENDAR
VERSION:2.0
PRODID:-//Rapid CPR and First Aid - ECPv6.15.20//NONSGML v1.0//EN
CALSCALE:GREGORIAN
METHOD:PUBLISH
X-ORIGINAL-URL:https://rapidcprwi.com
X-WR-CALDESC:Events for Rapid CPR and First Aid
REFRESH-INTERVAL;VALUE=DURATION:PT1H
X-Robots-Tag:noindex
X-PUBLISHED-TTL:PT1H
BEGIN:VTIMEZONE
TZID:America/Chicago
BEGIN:DAYLIGHT
TZOFFSETFROM:-0600
TZOFFSETTO:-0500
TZNAME:CDT
DTSTART:20240310T080000
END:DAYLIGHT
BEGIN:STANDARD
TZOFFSETFROM:-0500
TZOFFSETTO:-0600
TZNAME:CST
DTSTART:20241103T070000
END:STANDARD
BEGIN:DAYLIGHT
TZOFFSETFROM:-0600
TZOFFSETTO:-0500
TZNAME:CDT
DTSTART:20250309T080000
END:DAYLIGHT
BEGIN:STANDARD
TZOFFSETFROM:-0500
TZOFFSETTO:-0600
TZNAME:CST
DTSTART:20251102T070000
END:STANDARD
BEGIN:DAYLIGHT
TZOFFSETFROM:-0600
TZOFFSETTO:-0500
TZNAME:CDT
DTSTART:20260308T080000
END:DAYLIGHT
BEGIN:STANDARD
TZOFFSETFROM:-0500
TZOFFSETTO:-0600
TZNAME:CST
DTSTART:20261101T070000
END:STANDARD
END:VTIMEZONE
BEGIN:VEVENT
DTSTART;TZID=America/Chicago:20250527T160000
DTEND;TZID=America/Chicago:20250527T180000
DTSTAMP:20260421T045648
CREATED:20250423T214533Z
LAST-MODIFIED:20250423T214533Z
UID:10000744-1748361600-1748368800@rapidcprwi.com
SUMMARY:ACLS Skills Session
DESCRIPTION:
URL:https://rapidcprwi.com/event/acls-skills-session-105/
LOCATION:Rapid CPR and First Aid\, 5610 Medical Circle\, Suite 24\, Madison\, WI\, 53719\, United States
CATEGORIES:ACLS Skills Session
ORGANIZER;CN="Rapid CPR and First Aid":MAILTO:rapidcprwi@gmail.com
END:VEVENT
BEGIN:VEVENT
DTSTART;TZID=America/Chicago:20250527T170000
DTEND;TZID=America/Chicago:20250527T180000
DTSTAMP:20260421T045648
CREATED:20250423T214115Z
LAST-MODIFIED:20250423T214115Z
UID:10000738-1748365200-1748368800@rapidcprwi.com
SUMMARY:BLS Skills Session
DESCRIPTION:
URL:https://rapidcprwi.com/event/bls-skills-session-167/
LOCATION:Rapid CPR and First Aid\, 5610 Medical Circle\, Suite 24\, Madison\, WI\, 53719\, United States
ORGANIZER;CN="Rapid CPR and First Aid":MAILTO:rapidcprwi@gmail.com
END:VEVENT
BEGIN:VEVENT
DTSTART;TZID=America/Chicago:20250527T173000
DTEND;TZID=America/Chicago:20250527T210000
DTSTAMP:20260421T045648
CREATED:20250423T212130Z
LAST-MODIFIED:20250423T212149Z
UID:10000719-1748367000-1748379600@rapidcprwi.com
SUMMARY:BLS Full Course
DESCRIPTION:
URL:https://rapidcprwi.com/event/bls-full-course-149/
LOCATION:Rapid CPR and First Aid\, 5610 Medical Circle\, Suite 24\, Madison\, WI\, 53719\, United States
CATEGORIES:BLS Course
ORGANIZER;CN="Rapid CPR and First Aid":MAILTO:rapidcprwi@gmail.com
END:VEVENT
BEGIN:VEVENT
DTSTART;TZID=America/Chicago:20250527T173000
DTEND;TZID=America/Chicago:20250527T210000
DTSTAMP:20260421T045648
CREATED:20250423T213226Z
LAST-MODIFIED:20250423T213226Z
UID:10000728-1748367000-1748379600@rapidcprwi.com
SUMMARY:BLS Renewal Course
DESCRIPTION:
URL:https://rapidcprwi.com/event/bls-renewal-course-165/
LOCATION:Rapid CPR and First Aid\, 5610 Medical Circle\, Suite 24\, Madison\, WI\, 53719\, United States
ORGANIZER;CN="Rapid CPR and First Aid":MAILTO:rapidcprwi@gmail.com
END:VEVENT
BEGIN:VEVENT
DTSTART;TZID=America/Chicago:20250529T160000
DTEND;TZID=America/Chicago:20250529T180000
DTSTAMP:20260421T045648
CREATED:20250423T214921Z
LAST-MODIFIED:20250423T214921Z
UID:10000750-1748534400-1748541600@rapidcprwi.com
SUMMARY:PALS Skills Session
DESCRIPTION:
URL:https://rapidcprwi.com/event/pals-skills-session-105/
LOCATION:Rapid CPR and First Aid\, 5610 Medical Circle\, Suite 24\, Madison\, WI\, 53719\, United States
CATEGORIES:PALS Skills Session
ORGANIZER;CN="Rapid CPR and First Aid":MAILTO:rapidcprwi@gmail.com
END:VEVENT
BEGIN:VEVENT
DTSTART;TZID=America/Chicago:20250529T170000
DTEND;TZID=America/Chicago:20250529T180000
DTSTAMP:20260421T045648
CREATED:20250423T214201Z
LAST-MODIFIED:20250423T214201Z
UID:10000739-1748538000-1748541600@rapidcprwi.com
SUMMARY:BLS Skills Session
DESCRIPTION:
URL:https://rapidcprwi.com/event/bls-skills-session-168/
LOCATION:Rapid CPR and First Aid\, 5610 Medical Circle\, Suite 24\, Madison\, WI\, 53719\, United States
ORGANIZER;CN="Rapid CPR and First Aid":MAILTO:rapidcprwi@gmail.com
END:VEVENT
BEGIN:VEVENT
DTSTART;TZID=America/Chicago:20250529T173000
DTEND;TZID=America/Chicago:20250529T210000
DTSTAMP:20260421T045648
CREATED:20250423T212253Z
LAST-MODIFIED:20250423T212253Z
UID:10000720-1748539800-1748552400@rapidcprwi.com
SUMMARY:BLS Full Course
DESCRIPTION:
URL:https://rapidcprwi.com/event/bls-full-course-150/
LOCATION:Rapid CPR and First Aid\, 5610 Medical Circle\, Suite 24\, Madison\, WI\, 53719\, United States
CATEGORIES:BLS Course
ORGANIZER;CN="Rapid CPR and First Aid":MAILTO:rapidcprwi@gmail.com
END:VEVENT
BEGIN:VEVENT
DTSTART;TZID=America/Chicago:20250529T173000
DTEND;TZID=America/Chicago:20250529T210000
DTSTAMP:20260421T045648
CREATED:20250423T213307Z
LAST-MODIFIED:20250423T213307Z
UID:10000729-1748539800-1748552400@rapidcprwi.com
SUMMARY:BLS Renewal Course
DESCRIPTION:
URL:https://rapidcprwi.com/event/bls-renewal-course-166/
LOCATION:Rapid CPR and First Aid\, 5610 Medical Circle\, Suite 24\, Madison\, WI\, 53719\, United States
ORGANIZER;CN="Rapid CPR and First Aid":MAILTO:rapidcprwi@gmail.com
END:VEVENT
BEGIN:VEVENT
DTSTART;TZID=America/Chicago:20250603T160000
DTEND;TZID=America/Chicago:20250603T180000
DTSTAMP:20260421T045648
CREATED:20250525T151052Z
LAST-MODIFIED:20250525T151052Z
UID:10000797-1748966400-1748973600@rapidcprwi.com
SUMMARY:ACLS Skills Session
DESCRIPTION:
URL:https://rapidcprwi.com/event/acls-skills-session-106/
LOCATION:Rapid CPR and First Aid\, 5610 Medical Circle\, Suite 24\, Madison\, WI\, 53719\, United States
CATEGORIES:ACLS Skills Session
ORGANIZER;CN="Rapid CPR and First Aid":MAILTO:rapidcprwi@gmail.com
END:VEVENT
BEGIN:VEVENT
DTSTART;TZID=America/Chicago:20250603T170000
DTEND;TZID=America/Chicago:20250603T180000
DTSTAMP:20260421T045648
CREATED:20250525T150029Z
LAST-MODIFIED:20250525T150029Z
UID:10000786-1748970000-1748973600@rapidcprwi.com
SUMMARY:BLS Skills Session
DESCRIPTION:
URL:https://rapidcprwi.com/event/bls-skills-session-169/
LOCATION:Rapid CPR and First Aid\, 5610 Medical Circle\, Suite 24\, Madison\, WI\, 53719\, United States
ORGANIZER;CN="Rapid CPR and First Aid":MAILTO:rapidcprwi@gmail.com
END:VEVENT
BEGIN:VEVENT
DTSTART;TZID=America/Chicago:20250603T173000
DTEND;TZID=America/Chicago:20250603T210000
DTSTAMP:20260421T045648
CREATED:20250525T143029Z
LAST-MODIFIED:20250525T143029Z
UID:10000764-1748971800-1748984400@rapidcprwi.com
SUMMARY:BLS Full Course
DESCRIPTION:
URL:https://rapidcprwi.com/event/bls-full-course-151/
LOCATION:Rapid CPR and First Aid\, 5610 Medical Circle\, Suite 24\, Madison\, WI\, 53719\, United States
CATEGORIES:BLS Course
ORGANIZER;CN="Rapid CPR and First Aid":MAILTO:rapidcprwi@gmail.com
END:VEVENT
BEGIN:VEVENT
DTSTART;TZID=America/Chicago:20250603T173000
DTEND;TZID=America/Chicago:20250603T210000
DTSTAMP:20260421T045648
CREATED:20250525T144143Z
LAST-MODIFIED:20250525T144143Z
UID:10000775-1748971800-1748984400@rapidcprwi.com
SUMMARY:BLS Renewal Course
DESCRIPTION:
URL:https://rapidcprwi.com/event/bls-renewal-course-168/
LOCATION:Rapid CPR and First Aid\, 5610 Medical Circle\, Suite 24\, Madison\, WI\, 53719\, United States
ORGANIZER;CN="Rapid CPR and First Aid":MAILTO:rapidcprwi@gmail.com
END:VEVENT
BEGIN:VEVENT
DTSTART;TZID=America/Chicago:20250605T160000
DTEND;TZID=America/Chicago:20250605T170000
DTSTAMP:20260421T045648
CREATED:20250525T151643Z
LAST-MODIFIED:20250525T151643Z
UID:10000804-1749139200-1749142800@rapidcprwi.com
SUMMARY:PALS Skills Session
DESCRIPTION:
URL:https://rapidcprwi.com/event/pals-skills-session-106/
LOCATION:Rapid CPR and First Aid\, 5610 Medical Circle\, Suite 24\, Madison\, WI\, 53719\, United States
CATEGORIES:PALS Skills Session
ORGANIZER;CN="Rapid CPR and First Aid":MAILTO:rapidcprwi@gmail.com
END:VEVENT
BEGIN:VEVENT
DTSTART;TZID=America/Chicago:20250605T170000
DTEND;TZID=America/Chicago:20250605T180000
DTSTAMP:20260421T045648
CREATED:20250525T150122Z
LAST-MODIFIED:20250525T150122Z
UID:10000787-1749142800-1749146400@rapidcprwi.com
SUMMARY:BLS Skills Session
DESCRIPTION:
URL:https://rapidcprwi.com/event/bls-skills-session-170/
LOCATION:Rapid CPR and First Aid\, 5610 Medical Circle\, Suite 24\, Madison\, WI\, 53719\, United States
ORGANIZER;CN="Rapid CPR and First Aid":MAILTO:rapidcprwi@gmail.com
END:VEVENT
BEGIN:VEVENT
DTSTART;TZID=America/Chicago:20250605T173000
DTEND;TZID=America/Chicago:20250605T210000
DTSTAMP:20260421T045648
CREATED:20250525T143151Z
LAST-MODIFIED:20250525T143151Z
UID:10000765-1749144600-1749157200@rapidcprwi.com
SUMMARY:BLS Full Course
DESCRIPTION:
URL:https://rapidcprwi.com/event/bls-full-course-152/
LOCATION:Rapid CPR and First Aid\, 5610 Medical Circle\, Suite 24\, Madison\, WI\, 53719\, United States
CATEGORIES:BLS Course
ORGANIZER;CN="Rapid CPR and First Aid":MAILTO:rapidcprwi@gmail.com
END:VEVENT
BEGIN:VEVENT
DTSTART;TZID=America/Chicago:20250605T173000
DTEND;TZID=America/Chicago:20250605T210000
DTSTAMP:20260421T045648
CREATED:20250525T144234Z
LAST-MODIFIED:20250525T144234Z
UID:10000776-1749144600-1749157200@rapidcprwi.com
SUMMARY:BLS Renewal Course
DESCRIPTION:
URL:https://rapidcprwi.com/event/bls-renewal-course-169/
LOCATION:Rapid CPR and First Aid\, 5610 Medical Circle\, Suite 24\, Madison\, WI\, 53719\, United States
ORGANIZER;CN="Rapid CPR and First Aid":MAILTO:rapidcprwi@gmail.com
END:VEVENT
BEGIN:VEVENT
DTSTART;TZID=America/Chicago:20250610T160000
DTEND;TZID=America/Chicago:20250610T180000
DTSTAMP:20260421T045648
CREATED:20250525T151137Z
LAST-MODIFIED:20250525T151137Z
UID:10000798-1749571200-1749578400@rapidcprwi.com
SUMMARY:ACLS Skills Session
DESCRIPTION:
URL:https://rapidcprwi.com/event/acls-skills-session-107/
LOCATION:Rapid CPR and First Aid\, 5610 Medical Circle\, Suite 24\, Madison\, WI\, 53719\, United States
CATEGORIES:ACLS Skills Session
ORGANIZER;CN="Rapid CPR and First Aid":MAILTO:rapidcprwi@gmail.com
END:VEVENT
BEGIN:VEVENT
DTSTART;TZID=America/Chicago:20250610T160000
DTEND;TZID=America/Chicago:20250610T180000
DTSTAMP:20260421T045648
CREATED:20250531T221243Z
LAST-MODIFIED:20250531T221243Z
UID:10000811-1749571200-1749578400@rapidcprwi.com
SUMMARY:Special
DESCRIPTION:
URL:https://rapidcprwi.com/event/special/
LOCATION:Rapid CPR and First Aid\, 5610 Medical Circle\, Suite 24\, Madison\, WI\, 53719\, United States
CATEGORIES:ACLS Skills Session
ORGANIZER;CN="Rapid CPR and First Aid":MAILTO:rapidcprwi@gmail.com
END:VEVENT
BEGIN:VEVENT
DTSTART;TZID=America/Chicago:20250610T170000
DTEND;TZID=America/Chicago:20250610T180000
DTSTAMP:20260421T045648
CREATED:20250525T150208Z
LAST-MODIFIED:20250525T150208Z
UID:10000788-1749574800-1749578400@rapidcprwi.com
SUMMARY:BLS Skills Session
DESCRIPTION:
URL:https://rapidcprwi.com/event/bls-skills-session-171/
LOCATION:Rapid CPR and First Aid\, 5610 Medical Circle\, Suite 24\, Madison\, WI\, 53719\, United States
ORGANIZER;CN="Rapid CPR and First Aid":MAILTO:rapidcprwi@gmail.com
END:VEVENT
BEGIN:VEVENT
DTSTART;TZID=America/Chicago:20250610T173000
DTEND;TZID=America/Chicago:20250610T210000
DTSTAMP:20260421T045648
CREATED:20250525T143303Z
LAST-MODIFIED:20250525T143303Z
UID:10000766-1749576600-1749589200@rapidcprwi.com
SUMMARY:BLS Full Course
DESCRIPTION:
URL:https://rapidcprwi.com/event/bls-full-course-153/
LOCATION:Rapid CPR and First Aid\, 5610 Medical Circle\, Suite 24\, Madison\, WI\, 53719\, United States
CATEGORIES:BLS Course
ORGANIZER;CN="Rapid CPR and First Aid":MAILTO:rapidcprwi@gmail.com
END:VEVENT
BEGIN:VEVENT
DTSTART;TZID=America/Chicago:20250610T173000
DTEND;TZID=America/Chicago:20250610T210000
DTSTAMP:20260421T045648
CREATED:20250525T144332Z
LAST-MODIFIED:20250525T144332Z
UID:10000777-1749576600-1749589200@rapidcprwi.com
SUMMARY:BLS Renewal Course
DESCRIPTION:
URL:https://rapidcprwi.com/event/bls-renewal-course-170/
LOCATION:Rapid CPR and First Aid\, 5610 Medical Circle\, Suite 24\, Madison\, WI\, 53719\, United States
ORGANIZER;CN="Rapid CPR and First Aid":MAILTO:rapidcprwi@gmail.com
END:VEVENT
BEGIN:VEVENT
DTSTART;TZID=America/Chicago:20250611T083000
DTEND;TZID=America/Chicago:20250611T093000
DTSTAMP:20260421T045648
CREATED:20250525T150256Z
LAST-MODIFIED:20250525T150256Z
UID:10000789-1749630600-1749634200@rapidcprwi.com
SUMMARY:BLS Skills Session
DESCRIPTION:
URL:https://rapidcprwi.com/event/bls-skills-session-172/
LOCATION:Rapid CPR and First Aid\, 5610 Medical Circle\, Suite 24\, Madison\, WI\, 53719\, United States
ORGANIZER;CN="Rapid CPR and First Aid":MAILTO:rapidcprwi@gmail.com
END:VEVENT
BEGIN:VEVENT
DTSTART;TZID=America/Chicago:20250611T090000
DTEND;TZID=America/Chicago:20250611T130000
DTSTAMP:20260421T045648
CREATED:20250525T143400Z
LAST-MODIFIED:20250525T143400Z
UID:10000767-1749632400-1749646800@rapidcprwi.com
SUMMARY:BLS Full Course
DESCRIPTION:
URL:https://rapidcprwi.com/event/bls-full-course-154/
LOCATION:Rapid CPR and First Aid\, 5610 Medical Circle\, Suite 24\, Madison\, WI\, 53719\, United States
CATEGORIES:BLS Course
ORGANIZER;CN="Rapid CPR and First Aid":MAILTO:rapidcprwi@gmail.com
END:VEVENT
BEGIN:VEVENT
DTSTART;TZID=America/Chicago:20250611T090000
DTEND;TZID=America/Chicago:20250611T130000
DTSTAMP:20260421T045648
CREATED:20250525T145042Z
LAST-MODIFIED:20250525T145042Z
UID:10000778-1749632400-1749646800@rapidcprwi.com
SUMMARY:BLS Renewal Course
DESCRIPTION:
URL:https://rapidcprwi.com/event/bls-renewal-course-171/
LOCATION:Rapid CPR and First Aid\, 5610 Medical Circle\, Suite 24\, Madison\, WI\, 53719\, United States
ORGANIZER;CN="Rapid CPR and First Aid":MAILTO:rapidcprwi@gmail.com
END:VEVENT
BEGIN:VEVENT
DTSTART;TZID=America/Chicago:20250611T110000
DTEND;TZID=America/Chicago:20250611T130000
DTSTAMP:20260421T045648
CREATED:20250525T151219Z
LAST-MODIFIED:20250525T151219Z
UID:10000799-1749639600-1749646800@rapidcprwi.com
SUMMARY:ACLS Skills Session
DESCRIPTION:
URL:https://rapidcprwi.com/event/acls-skills-session-108/
LOCATION:Rapid CPR and First Aid\, 5610 Medical Circle\, Suite 24\, Madison\, WI\, 53719\, United States
CATEGORIES:ACLS Skills Session
ORGANIZER;CN="Rapid CPR and First Aid":MAILTO:rapidcprwi@gmail.com
END:VEVENT
BEGIN:VEVENT
DTSTART;TZID=America/Chicago:20250611T130000
DTEND;TZID=America/Chicago:20250611T150000
DTSTAMP:20260421T045648
CREATED:20250525T151735Z
LAST-MODIFIED:20250525T151735Z
UID:10000805-1749646800-1749654000@rapidcprwi.com
SUMMARY:PALS Skills Session
DESCRIPTION:
URL:https://rapidcprwi.com/event/pals-skills-session-107/
LOCATION:Rapid CPR and First Aid\, 5610 Medical Circle\, Suite 24\, Madison\, WI\, 53719\, United States
CATEGORIES:PALS Skills Session
ORGANIZER;CN="Rapid CPR and First Aid":MAILTO:rapidcprwi@gmail.com
END:VEVENT
BEGIN:VEVENT
DTSTART;TZID=America/Chicago:20250612T160000
DTEND;TZID=America/Chicago:20250612T180000
DTSTAMP:20260421T045648
CREATED:20250525T151820Z
LAST-MODIFIED:20250525T151820Z
UID:10000806-1749744000-1749751200@rapidcprwi.com
SUMMARY:PALS Skills Session
DESCRIPTION:
URL:https://rapidcprwi.com/event/pals-skills-session-108/
LOCATION:Rapid CPR and First Aid\, 5610 Medical Circle\, Suite 24\, Madison\, WI\, 53719\, United States
CATEGORIES:PALS Skills Session
ORGANIZER;CN="Rapid CPR and First Aid":MAILTO:rapidcprwi@gmail.com
END:VEVENT
BEGIN:VEVENT
DTSTART;TZID=America/Chicago:20250612T170000
DTEND;TZID=America/Chicago:20250612T180000
DTSTAMP:20260421T045648
CREATED:20250525T150344Z
LAST-MODIFIED:20250525T150344Z
UID:10000790-1749747600-1749751200@rapidcprwi.com
SUMMARY:BLS Skills Session
DESCRIPTION:
URL:https://rapidcprwi.com/event/bls-skills-session-173/
LOCATION:Rapid CPR and First Aid\, 5610 Medical Circle\, Suite 24\, Madison\, WI\, 53719\, United States
ORGANIZER;CN="Rapid CPR and First Aid":MAILTO:rapidcprwi@gmail.com
END:VEVENT
BEGIN:VEVENT
DTSTART;TZID=America/Chicago:20250612T173000
DTEND;TZID=America/Chicago:20250612T210000
DTSTAMP:20260421T045648
CREATED:20250525T143452Z
LAST-MODIFIED:20250525T143452Z
UID:10000768-1749749400-1749762000@rapidcprwi.com
SUMMARY:BLS Full Course
DESCRIPTION:
URL:https://rapidcprwi.com/event/bls-full-course-155/
LOCATION:Rapid CPR and First Aid\, 5610 Medical Circle\, Suite 24\, Madison\, WI\, 53719\, United States
CATEGORIES:BLS Course
ORGANIZER;CN="Rapid CPR and First Aid":MAILTO:rapidcprwi@gmail.com
END:VEVENT
BEGIN:VEVENT
DTSTART;TZID=America/Chicago:20250612T173000
DTEND;TZID=America/Chicago:20250612T210000
DTSTAMP:20260421T045648
CREATED:20250525T145143Z
LAST-MODIFIED:20250525T145143Z
UID:10000779-1749749400-1749762000@rapidcprwi.com
SUMMARY:BLS Renewal Course
DESCRIPTION:
URL:https://rapidcprwi.com/event/bls-renewal-course-172/
LOCATION:Rapid CPR and First Aid\, 5610 Medical Circle\, Suite 24\, Madison\, WI\, 53719\, United States
ORGANIZER;CN="Rapid CPR and First Aid":MAILTO:rapidcprwi@gmail.com
END:VEVENT
END:VCALENDAR