BEGIN:VCALENDAR
VERSION:2.0
PRODID:-//Rapid CPR and First Aid - ECPv6.15.20//NONSGML v1.0//EN
CALSCALE:GREGORIAN
METHOD:PUBLISH
X-WR-CALNAME:Rapid CPR and First Aid
X-ORIGINAL-URL:https://rapidcprwi.com
X-WR-CALDESC:Events for Rapid CPR and First Aid
REFRESH-INTERVAL;VALUE=DURATION:PT1H
X-Robots-Tag:noindex
X-PUBLISHED-TTL:PT1H
BEGIN:VTIMEZONE
TZID:America/Chicago
BEGIN:DAYLIGHT
TZOFFSETFROM:-0600
TZOFFSETTO:-0500
TZNAME:CDT
DTSTART:20230312T080000
END:DAYLIGHT
BEGIN:STANDARD
TZOFFSETFROM:-0500
TZOFFSETTO:-0600
TZNAME:CST
DTSTART:20231105T070000
END:STANDARD
BEGIN:DAYLIGHT
TZOFFSETFROM:-0600
TZOFFSETTO:-0500
TZNAME:CDT
DTSTART:20240310T080000
END:DAYLIGHT
BEGIN:STANDARD
TZOFFSETFROM:-0500
TZOFFSETTO:-0600
TZNAME:CST
DTSTART:20241103T070000
END:STANDARD
BEGIN:DAYLIGHT
TZOFFSETFROM:-0600
TZOFFSETTO:-0500
TZNAME:CDT
DTSTART:20250309T080000
END:DAYLIGHT
BEGIN:STANDARD
TZOFFSETFROM:-0500
TZOFFSETTO:-0600
TZNAME:CST
DTSTART:20251102T070000
END:STANDARD
END:VTIMEZONE
BEGIN:VEVENT
DTSTART;TZID=America/Chicago:20241223T173000
DTEND;TZID=America/Chicago:20241223T210000
DTSTAMP:20260424T093302
CREATED:20241203T021202Z
LAST-MODIFIED:20241203T021202Z
UID:10000546-1734975000-1734987600@rapidcprwi.com
SUMMARY:BLS Renewal Course
DESCRIPTION:
URL:https://rapidcprwi.com/event/bls-renewal-course-121/
LOCATION:Rapid CPR and First Aid\, 5610 Medical Circle\, Suite 24\, Madison\, WI\, 53719\, United States
ORGANIZER;CN="Rapid CPR and First Aid":MAILTO:rapidcprwi@gmail.com
END:VEVENT
BEGIN:VEVENT
DTSTART;TZID=America/Chicago:20241223T173000
DTEND;TZID=America/Chicago:20241223T210000
DTSTAMP:20260424T093302
CREATED:20241203T020314Z
LAST-MODIFIED:20241203T020314Z
UID:10000540-1734975000-1734987600@rapidcprwi.com
SUMMARY:BLS Course
DESCRIPTION:
URL:https://rapidcprwi.com/event/bls-course-10/
LOCATION:Rapid CPR and First Aid\, 5610 Medical Circle\, Suite 24\, Madison\, WI\, 53719\, United States
CATEGORIES:BLS Course
ORGANIZER;CN="Rapid CPR and First Aid":MAILTO:rapidcprwi@gmail.com
END:VEVENT
BEGIN:VEVENT
DTSTART;TZID=America/Chicago:20241223T170000
DTEND;TZID=America/Chicago:20241223T180000
DTSTAMP:20260424T093302
CREATED:20241203T021641Z
LAST-MODIFIED:20241203T021641Z
UID:10000552-1734973200-1734976800@rapidcprwi.com
SUMMARY:BLS Skills Session
DESCRIPTION:
URL:https://rapidcprwi.com/event/bls-skills-session-122/
LOCATION:Rapid CPR and First Aid\, 5610 Medical Circle\, Suite 24\, Madison\, WI\, 53719\, United States
ORGANIZER;CN="Rapid CPR and First Aid":MAILTO:rapidcprwi@gmail.com
END:VEVENT
BEGIN:VEVENT
DTSTART;TZID=America/Chicago:20241223T160000
DTEND;TZID=America/Chicago:20241223T180000
DTSTAMP:20260424T093302
CREATED:20241203T021855Z
LAST-MODIFIED:20241203T021855Z
UID:10000555-1734969600-1734976800@rapidcprwi.com
SUMMARY:ACLS Skills Session
DESCRIPTION:
URL:https://rapidcprwi.com/event/acls-skills-session-76/
LOCATION:Rapid CPR and First Aid\, 5610 Medical Circle\, Suite 24\, Madison\, WI\, 53719\, United States
CATEGORIES:ACLS Skills Session
ORGANIZER;CN="Rapid CPR and First Aid":MAILTO:rapidcprwi@gmail.com
END:VEVENT
BEGIN:VEVENT
DTSTART;TZID=America/Chicago:20241219T173000
DTEND;TZID=America/Chicago:20241219T210000
DTSTAMP:20260424T093302
CREATED:20241203T021123Z
LAST-MODIFIED:20241203T021123Z
UID:10000545-1734629400-1734642000@rapidcprwi.com
SUMMARY:BLS Renewal Course
DESCRIPTION:
URL:https://rapidcprwi.com/event/bls-renewal-course-120/
LOCATION:Rapid CPR and First Aid\, 5610 Medical Circle\, Suite 24\, Madison\, WI\, 53719\, United States
ORGANIZER;CN="Rapid CPR and First Aid":MAILTO:rapidcprwi@gmail.com
END:VEVENT
BEGIN:VEVENT
DTSTART;TZID=America/Chicago:20241219T173000
DTEND;TZID=America/Chicago:20241219T210000
DTSTAMP:20260424T093302
CREATED:20241203T020157Z
LAST-MODIFIED:20241203T020157Z
UID:10000539-1734629400-1734642000@rapidcprwi.com
SUMMARY:BLS Course
DESCRIPTION:
URL:https://rapidcprwi.com/event/bls-course-9/
LOCATION:Rapid CPR and First Aid\, 5610 Medical Circle\, Suite 24\, Madison\, WI\, 53719\, United States
CATEGORIES:BLS Course
ORGANIZER;CN="Rapid CPR and First Aid":MAILTO:rapidcprwi@gmail.com
END:VEVENT
BEGIN:VEVENT
DTSTART;TZID=America/Chicago:20241219T170000
DTEND;TZID=America/Chicago:20241219T180000
DTSTAMP:20260424T093302
CREATED:20241203T021558Z
LAST-MODIFIED:20241203T021558Z
UID:10000551-1734627600-1734631200@rapidcprwi.com
SUMMARY:BLS Skills Session
DESCRIPTION:
URL:https://rapidcprwi.com/event/bls-skills-session-121/
LOCATION:Rapid CPR and First Aid\, 5610 Medical Circle\, Suite 24\, Madison\, WI\, 53719\, United States
ORGANIZER;CN="Rapid CPR and First Aid":MAILTO:rapidcprwi@gmail.com
END:VEVENT
BEGIN:VEVENT
DTSTART;TZID=America/Chicago:20241219T160000
DTEND;TZID=America/Chicago:20241219T180000
DTSTAMP:20260424T093302
CREATED:20241203T022142Z
LAST-MODIFIED:20241203T022142Z
UID:10000559-1734624000-1734631200@rapidcprwi.com
SUMMARY:PALS Skills Session
DESCRIPTION:
URL:https://rapidcprwi.com/event/pals-skills-session-79/
LOCATION:Rapid CPR and First Aid\, 5610 Medical Circle\, Suite 24\, Madison\, WI\, 53719\, United States
CATEGORIES:PALS Skills Session
ORGANIZER;CN="Rapid CPR and First Aid":MAILTO:rapidcprwi@gmail.com
END:VEVENT
BEGIN:VEVENT
DTSTART;TZID=America/Chicago:20241217T173000
DTEND;TZID=America/Chicago:20241217T210000
DTSTAMP:20260424T093302
CREATED:20241203T021043Z
LAST-MODIFIED:20241203T021043Z
UID:10000544-1734456600-1734469200@rapidcprwi.com
SUMMARY:BLS Renewal Course
DESCRIPTION:
URL:https://rapidcprwi.com/event/bls-renewal-course-119/
LOCATION:Rapid CPR and First Aid\, 5610 Medical Circle\, Suite 24\, Madison\, WI\, 53719\, United States
ORGANIZER;CN="Rapid CPR and First Aid":MAILTO:rapidcprwi@gmail.com
END:VEVENT
BEGIN:VEVENT
DTSTART;TZID=America/Chicago:20241217T173000
DTEND;TZID=America/Chicago:20241217T210000
DTSTAMP:20260424T093302
CREATED:20241203T020104Z
LAST-MODIFIED:20241203T020104Z
UID:10000538-1734456600-1734469200@rapidcprwi.com
SUMMARY:BLS Course
DESCRIPTION:
URL:https://rapidcprwi.com/event/bls-course-8/
LOCATION:Rapid CPR and First Aid\, 5610 Medical Circle\, Suite 24\, Madison\, WI\, 53719\, United States
CATEGORIES:BLS Course
ORGANIZER;CN="Rapid CPR and First Aid":MAILTO:rapidcprwi@gmail.com
END:VEVENT
BEGIN:VEVENT
DTSTART;TZID=America/Chicago:20241217T170000
DTEND;TZID=America/Chicago:20241217T180000
DTSTAMP:20260424T093302
CREATED:20241203T021514Z
LAST-MODIFIED:20241203T021514Z
UID:10000550-1734454800-1734458400@rapidcprwi.com
SUMMARY:BLS Skills Session
DESCRIPTION:
URL:https://rapidcprwi.com/event/bls-skills-session-120/
LOCATION:Rapid CPR and First Aid\, 5610 Medical Circle\, Suite 24\, Madison\, WI\, 53719\, United States
ORGANIZER;CN="Rapid CPR and First Aid":MAILTO:rapidcprwi@gmail.com
END:VEVENT
BEGIN:VEVENT
DTSTART;TZID=America/Chicago:20241217T160000
DTEND;TZID=America/Chicago:20241217T180000
DTSTAMP:20260424T093302
CREATED:20241203T021818Z
LAST-MODIFIED:20241203T021818Z
UID:10000554-1734451200-1734458400@rapidcprwi.com
SUMMARY:ACLS Skills Session
DESCRIPTION:
URL:https://rapidcprwi.com/event/acls-skills-session-75/
LOCATION:Rapid CPR and First Aid\, 5610 Medical Circle\, Suite 24\, Madison\, WI\, 53719\, United States
CATEGORIES:ACLS Skills Session
ORGANIZER;CN="Rapid CPR and First Aid":MAILTO:rapidcprwi@gmail.com
END:VEVENT
BEGIN:VEVENT
DTSTART;TZID=America/Chicago:20241212T173000
DTEND;TZID=America/Chicago:20241212T210000
DTSTAMP:20260424T093302
CREATED:20241203T020651Z
LAST-MODIFIED:20241203T020651Z
UID:10000543-1734024600-1734037200@rapidcprwi.com
SUMMARY:BLS Renewal Course
DESCRIPTION:
URL:https://rapidcprwi.com/event/bls-renewal-course-118/
LOCATION:Rapid CPR and First Aid\, 5610 Medical Circle\, Suite 24\, Madison\, WI\, 53719\, United States
ORGANIZER;CN="Rapid CPR and First Aid":MAILTO:rapidcprwi@gmail.com
END:VEVENT
BEGIN:VEVENT
DTSTART;TZID=America/Chicago:20241212T173000
DTEND;TZID=America/Chicago:20241212T210000
DTSTAMP:20260424T093302
CREATED:20241203T020019Z
LAST-MODIFIED:20241203T020019Z
UID:10000537-1734024600-1734037200@rapidcprwi.com
SUMMARY:BLS Course
DESCRIPTION:
URL:https://rapidcprwi.com/event/bls-course-7/
LOCATION:Rapid CPR and First Aid\, 5610 Medical Circle\, Suite 24\, Madison\, WI\, 53719\, United States
CATEGORIES:BLS Course
ORGANIZER;CN="Rapid CPR and First Aid":MAILTO:rapidcprwi@gmail.com
END:VEVENT
BEGIN:VEVENT
DTSTART;TZID=America/Chicago:20241212T170000
DTEND;TZID=America/Chicago:20241212T180000
DTSTAMP:20260424T093302
CREATED:20241203T021427Z
LAST-MODIFIED:20241203T021427Z
UID:10000549-1734022800-1734026400@rapidcprwi.com
SUMMARY:BLS Skills Session
DESCRIPTION:
URL:https://rapidcprwi.com/event/bls-skills-session-119/
LOCATION:Rapid CPR and First Aid\, 5610 Medical Circle\, Suite 24\, Madison\, WI\, 53719\, United States
ORGANIZER;CN="Rapid CPR and First Aid":MAILTO:rapidcprwi@gmail.com
END:VEVENT
BEGIN:VEVENT
DTSTART;TZID=America/Chicago:20241212T160000
DTEND;TZID=America/Chicago:20241212T180000
DTSTAMP:20260424T093302
CREATED:20241203T022107Z
LAST-MODIFIED:20241203T022107Z
UID:10000558-1734019200-1734026400@rapidcprwi.com
SUMMARY:PALS Skills Session
DESCRIPTION:
URL:https://rapidcprwi.com/event/pals-skills-session-78/
LOCATION:Rapid CPR and First Aid\, 5610 Medical Circle\, Suite 24\, Madison\, WI\, 53719\, United States
CATEGORIES:PALS Skills Session
ORGANIZER;CN="Rapid CPR and First Aid":MAILTO:rapidcprwi@gmail.com
END:VEVENT
BEGIN:VEVENT
DTSTART;TZID=America/Chicago:20241210T173000
DTEND;TZID=America/Chicago:20241210T210000
DTSTAMP:20260424T093302
CREATED:20241203T020557Z
LAST-MODIFIED:20241203T020557Z
UID:10000542-1733851800-1733864400@rapidcprwi.com
SUMMARY:BLS Renewal Course
DESCRIPTION:
URL:https://rapidcprwi.com/event/bls-renewal-course-117/
LOCATION:Rapid CPR and First Aid\, 5610 Medical Circle\, Suite 24\, Madison\, WI\, 53719\, United States
ORGANIZER;CN="Rapid CPR and First Aid":MAILTO:rapidcprwi@gmail.com
END:VEVENT
BEGIN:VEVENT
DTSTART;TZID=America/Chicago:20241210T173000
DTEND;TZID=America/Chicago:20241210T210000
DTSTAMP:20260424T093302
CREATED:20241203T015926Z
LAST-MODIFIED:20241203T015926Z
UID:10000536-1733851800-1733864400@rapidcprwi.com
SUMMARY:BLS Course
DESCRIPTION:
URL:https://rapidcprwi.com/event/bls-course-6/
LOCATION:Rapid CPR and First Aid\, 5610 Medical Circle\, Suite 24\, Madison\, WI\, 53719\, United States
CATEGORIES:BLS Course
ORGANIZER;CN="Rapid CPR and First Aid":MAILTO:rapidcprwi@gmail.com
END:VEVENT
BEGIN:VEVENT
DTSTART;TZID=America/Chicago:20241210T170000
DTEND;TZID=America/Chicago:20241210T180000
DTSTAMP:20260424T093302
CREATED:20241203T021343Z
LAST-MODIFIED:20241203T021343Z
UID:10000548-1733850000-1733853600@rapidcprwi.com
SUMMARY:BLS Skills Session
DESCRIPTION:
URL:https://rapidcprwi.com/event/bls-skills-session-118/
LOCATION:Rapid CPR and First Aid\, 5610 Medical Circle\, Suite 24\, Madison\, WI\, 53719\, United States
ORGANIZER;CN="Rapid CPR and First Aid":MAILTO:rapidcprwi@gmail.com
END:VEVENT
BEGIN:VEVENT
DTSTART;TZID=America/Chicago:20241210T160000
DTEND;TZID=America/Chicago:20241210T180000
DTSTAMP:20260424T093302
CREATED:20241203T021735Z
LAST-MODIFIED:20241203T021735Z
UID:10000553-1733846400-1733853600@rapidcprwi.com
SUMMARY:ACLS Skills Session
DESCRIPTION:
URL:https://rapidcprwi.com/event/acls-skills-session-74/
LOCATION:Rapid CPR and First Aid\, 5610 Medical Circle\, Suite 24\, Madison\, WI\, 53719\, United States
CATEGORIES:ACLS Skills Session
ORGANIZER;CN="Rapid CPR and First Aid":MAILTO:rapidcprwi@gmail.com
END:VEVENT
BEGIN:VEVENT
DTSTART;TZID=America/Chicago:20241205T173000
DTEND;TZID=America/Chicago:20241205T210000
DTSTAMP:20260424T093302
CREATED:20241203T020436Z
LAST-MODIFIED:20241203T020436Z
UID:10000541-1733419800-1733432400@rapidcprwi.com
SUMMARY:BLS Renewal Course
DESCRIPTION:
URL:https://rapidcprwi.com/event/bls-renewal-course-116/
LOCATION:Rapid CPR and First Aid\, 5610 Medical Circle\, Suite 24\, Madison\, WI\, 53719\, United States
ORGANIZER;CN="Rapid CPR and First Aid":MAILTO:rapidcprwi@gmail.com
END:VEVENT
BEGIN:VEVENT
DTSTART;TZID=America/Chicago:20241205T173000
DTEND;TZID=America/Chicago:20241205T210000
DTSTAMP:20260424T093302
CREATED:20241203T015827Z
LAST-MODIFIED:20241203T015827Z
UID:10000535-1733419800-1733432400@rapidcprwi.com
SUMMARY:BLS Course
DESCRIPTION:
URL:https://rapidcprwi.com/event/bls-course-5/
LOCATION:Rapid CPR and First Aid\, 5610 Medical Circle\, Suite 24\, Madison\, WI\, 53719\, United States
CATEGORIES:BLS Course
ORGANIZER;CN="Rapid CPR and First Aid":MAILTO:rapidcprwi@gmail.com
END:VEVENT
BEGIN:VEVENT
DTSTART;TZID=America/Chicago:20241205T170000
DTEND;TZID=America/Chicago:20241205T180000
DTSTAMP:20260424T093302
CREATED:20241203T021252Z
LAST-MODIFIED:20241203T021252Z
UID:10000547-1733418000-1733421600@rapidcprwi.com
SUMMARY:BLS Skills Session
DESCRIPTION:
URL:https://rapidcprwi.com/event/bls-skills-session-117/
LOCATION:Rapid CPR and First Aid\, 5610 Medical Circle\, Suite 24\, Madison\, WI\, 53719\, United States
ORGANIZER;CN="Rapid CPR and First Aid":MAILTO:rapidcprwi@gmail.com
END:VEVENT
BEGIN:VEVENT
DTSTART;TZID=America/Chicago:20241205T160000
DTEND;TZID=America/Chicago:20241205T180000
DTSTAMP:20260424T093302
CREATED:20241203T022027Z
LAST-MODIFIED:20241203T022027Z
UID:10000557-1733414400-1733421600@rapidcprwi.com
SUMMARY:PALS Skills Session
DESCRIPTION:
URL:https://rapidcprwi.com/event/pals-skills-session-77/
LOCATION:Rapid CPR and First Aid\, 5610 Medical Circle\, Suite 24\, Madison\, WI\, 53719\, United States
CATEGORIES:PALS Skills Session
ORGANIZER;CN="Rapid CPR and First Aid":MAILTO:rapidcprwi@gmail.com
END:VEVENT
BEGIN:VEVENT
DTSTART;TZID=America/Chicago:20241126T173000
DTEND;TZID=America/Chicago:20241126T210000
DTSTAMP:20260424T093302
CREATED:20241104T023920Z
LAST-MODIFIED:20241104T023920Z
UID:10000516-1732642200-1732654800@rapidcprwi.com
SUMMARY:BLS Full Course
DESCRIPTION:
URL:https://rapidcprwi.com/event/bls-full-course-114/
LOCATION:Rapid CPR and First Aid\, 5610 Medical Circle\, Suite 24\, Madison\, WI\, 53719\, United States
CATEGORIES:BLS Course
ORGANIZER;CN="Rapid CPR and First Aid":MAILTO:rapidcprwi@gmail.com
END:VEVENT
BEGIN:VEVENT
DTSTART;TZID=America/Chicago:20241126T170000
DTEND;TZID=America/Chicago:20241126T180000
DTSTAMP:20260424T093302
CREATED:20241104T024826Z
LAST-MODIFIED:20241104T024826Z
UID:10000528-1732640400-1732644000@rapidcprwi.com
SUMMARY:BLS Skills Session
DESCRIPTION:
URL:https://rapidcprwi.com/event/bls-skills-session-116/
LOCATION:Rapid CPR and First Aid\, 5610 Medical Circle\, Suite 24\, Madison\, WI\, 53719\, United States
ORGANIZER;CN="Rapid CPR and First Aid":MAILTO:rapidcprwi@gmail.com
END:VEVENT
BEGIN:VEVENT
DTSTART;TZID=America/Chicago:20241126T170000
DTEND;TZID=America/Chicago:20241126T180000
DTSTAMP:20260424T093302
CREATED:20241104T024420Z
LAST-MODIFIED:20241104T024420Z
UID:10000522-1732640400-1732644000@rapidcprwi.com
SUMMARY:BLS Renewal Course
DESCRIPTION:
URL:https://rapidcprwi.com/event/bls-renewal-course-115/
LOCATION:Rapid CPR and First Aid\, 5610 Medical Circle\, Suite 24\, Madison\, WI\, 53719\, United States
ORGANIZER;CN="Rapid CPR and First Aid":MAILTO:rapidcprwi@gmail.com
END:VEVENT
BEGIN:VEVENT
DTSTART;TZID=America/Chicago:20241126T160000
DTEND;TZID=America/Chicago:20241126T180000
DTSTAMP:20260424T093302
CREATED:20241104T025029Z
LAST-MODIFIED:20241104T025029Z
UID:10000531-1732636800-1732644000@rapidcprwi.com
SUMMARY:ACLS Skills Session
DESCRIPTION:
URL:https://rapidcprwi.com/event/acls-skills-session-73/
LOCATION:Rapid CPR and First Aid\, 5610 Medical Circle\, Suite 24\, Madison\, WI\, 53719\, United States
CATEGORIES:ACLS Skills Session
ORGANIZER;CN="Rapid CPR and First Aid":MAILTO:rapidcprwi@gmail.com
END:VEVENT
BEGIN:VEVENT
DTSTART;TZID=America/Chicago:20241121T173000
DTEND;TZID=America/Chicago:20241121T210000
DTSTAMP:20260424T093302
CREATED:20241104T023832Z
LAST-MODIFIED:20241104T023832Z
UID:10000515-1732210200-1732222800@rapidcprwi.com
SUMMARY:BLS Full Course
DESCRIPTION:
URL:https://rapidcprwi.com/event/bls-full-course-113/
LOCATION:Rapid CPR and First Aid\, 5610 Medical Circle\, Suite 24\, Madison\, WI\, 53719\, United States
CATEGORIES:BLS Course
ORGANIZER;CN="Rapid CPR and First Aid":MAILTO:rapidcprwi@gmail.com
END:VEVENT
BEGIN:VEVENT
DTSTART;TZID=America/Chicago:20241121T170000
DTEND;TZID=America/Chicago:20241121T180000
DTSTAMP:20260424T093302
CREATED:20241104T024753Z
LAST-MODIFIED:20241104T024753Z
UID:10000527-1732208400-1732212000@rapidcprwi.com
SUMMARY:BLS Skills Session
DESCRIPTION:
URL:https://rapidcprwi.com/event/bls-skills-session-115/
LOCATION:Rapid CPR and First Aid\, 5610 Medical Circle\, Suite 24\, Madison\, WI\, 53719\, United States
ORGANIZER;CN="Rapid CPR and First Aid":MAILTO:rapidcprwi@gmail.com
END:VEVENT
END:VCALENDAR