BEGIN:VCALENDAR
VERSION:2.0
PRODID:-//Rapid CPR and First Aid - ECPv6.15.20//NONSGML v1.0//EN
CALSCALE:GREGORIAN
METHOD:PUBLISH
X-WR-CALNAME:Rapid CPR and First Aid
X-ORIGINAL-URL:https://rapidcprwi.com
X-WR-CALDESC:Events for Rapid CPR and First Aid
REFRESH-INTERVAL;VALUE=DURATION:PT1H
X-Robots-Tag:noindex
X-PUBLISHED-TTL:PT1H
BEGIN:VTIMEZONE
TZID:America/Chicago
BEGIN:DAYLIGHT
TZOFFSETFROM:-0600
TZOFFSETTO:-0500
TZNAME:CDT
DTSTART:20240310T080000
END:DAYLIGHT
BEGIN:STANDARD
TZOFFSETFROM:-0500
TZOFFSETTO:-0600
TZNAME:CST
DTSTART:20241103T070000
END:STANDARD
BEGIN:DAYLIGHT
TZOFFSETFROM:-0600
TZOFFSETTO:-0500
TZNAME:CDT
DTSTART:20250309T080000
END:DAYLIGHT
BEGIN:STANDARD
TZOFFSETFROM:-0500
TZOFFSETTO:-0600
TZNAME:CST
DTSTART:20251102T070000
END:STANDARD
BEGIN:DAYLIGHT
TZOFFSETFROM:-0600
TZOFFSETTO:-0500
TZNAME:CDT
DTSTART:20260308T080000
END:DAYLIGHT
BEGIN:STANDARD
TZOFFSETFROM:-0500
TZOFFSETTO:-0600
TZNAME:CST
DTSTART:20261101T070000
END:STANDARD
END:VTIMEZONE
BEGIN:VEVENT
DTSTART;TZID=America/Chicago:20251023T160000
DTEND;TZID=America/Chicago:20251023T180000
DTSTAMP:20260423T190450
CREATED:20250908T193459Z
LAST-MODIFIED:20250908T193459Z
UID:10000968-1761235200-1761242400@rapidcprwi.com
SUMMARY:PALS Skill Session
DESCRIPTION:
URL:https://rapidcprwi.com/event/pals-skill-session-8/
LOCATION:Rapid CPR and First Aid\, 5610 Medical Circle\, Suite 24\, Madison\, WI\, 53719\, United States
CATEGORIES:PALS Skills Session
ORGANIZER;CN="Rapid CPR and First Aid":MAILTO:rapidcprwi@gmail.com
END:VEVENT
BEGIN:VEVENT
DTSTART;TZID=America/Chicago:20251022T130000
DTEND;TZID=America/Chicago:20251022T150000
DTSTAMP:20260423T190450
CREATED:20250908T193413Z
LAST-MODIFIED:20250908T193413Z
UID:10000967-1761138000-1761145200@rapidcprwi.com
SUMMARY:PALS Skill Session
DESCRIPTION:
URL:https://rapidcprwi.com/event/pals-skill-session-7/
LOCATION:Rapid CPR and First Aid\, 5610 Medical Circle\, Suite 24\, Madison\, WI\, 53719\, United States
CATEGORIES:PALS Skills Session
ORGANIZER;CN="Rapid CPR and First Aid":MAILTO:rapidcprwi@gmail.com
END:VEVENT
BEGIN:VEVENT
DTSTART;TZID=America/Chicago:20251022T110000
DTEND;TZID=America/Chicago:20251022T130000
DTSTAMP:20260423T190450
CREATED:20250908T192823Z
LAST-MODIFIED:20250908T192823Z
UID:10000958-1761130800-1761138000@rapidcprwi.com
SUMMARY:ACLS Skill Session
DESCRIPTION:
URL:https://rapidcprwi.com/event/acls-skill-session-6/
LOCATION:Rapid CPR and First Aid\, 5610 Medical Circle\, Suite 24\, Madison\, WI\, 53719\, United States
CATEGORIES:ACLS Skills Session
ORGANIZER;CN="Rapid CPR and First Aid":MAILTO:rapidcprwi@gmail.com
END:VEVENT
BEGIN:VEVENT
DTSTART;TZID=America/Chicago:20251022T090000
DTEND;TZID=America/Chicago:20251022T130000
DTSTAMP:20260423T190450
CREATED:20250908T173611Z
LAST-MODIFIED:20250908T184504Z
UID:10000934-1761123600-1761138000@rapidcprwi.com
SUMMARY:BLS Renewal Course
DESCRIPTION:
URL:https://rapidcprwi.com/event/bls-renewal-course-211/
LOCATION:Rapid CPR and First Aid\, 5610 Medical Circle\, Suite 24\, Madison\, WI\, 53719\, United States
CATEGORIES:BLS Renewal Course
ORGANIZER;CN="Rapid CPR and First Aid":MAILTO:rapidcprwi@gmail.com
END:VEVENT
BEGIN:VEVENT
DTSTART;TZID=America/Chicago:20251022T090000
DTEND;TZID=America/Chicago:20251022T130000
DTSTAMP:20260423T190450
CREATED:20250908T164603Z
LAST-MODIFIED:20250908T164603Z
UID:10000919-1761123600-1761138000@rapidcprwi.com
SUMMARY:BLS Full Course
DESCRIPTION:
URL:https://rapidcprwi.com/event/bls-full-course-195/
LOCATION:Rapid CPR and First Aid\, 5610 Medical Circle\, Suite 24\, Madison\, WI\, 53719\, United States
CATEGORIES:BLS Course
ORGANIZER;CN="Rapid CPR and First Aid":MAILTO:rapidcprwi@gmail.com
END:VEVENT
BEGIN:VEVENT
DTSTART;TZID=America/Chicago:20251022T083000
DTEND;TZID=America/Chicago:20251022T093000
DTSTAMP:20260423T190450
CREATED:20250908T191912Z
LAST-MODIFIED:20250908T191912Z
UID:10000948-1761121800-1761125400@rapidcprwi.com
SUMMARY:BLS Skill Session
DESCRIPTION:
URL:https://rapidcprwi.com/event/bls-skill-session-11/
LOCATION:Rapid CPR and First Aid\, 5610 Medical Circle\, Suite 24\, Madison\, WI\, 53719\, United States
CATEGORIES:BLS Skill Session
ORGANIZER;CN="Rapid CPR and First Aid":MAILTO:rapidcprwi@gmail.com
END:VEVENT
BEGIN:VEVENT
DTSTART;TZID=America/Chicago:20251021T173000
DTEND;TZID=America/Chicago:20251021T210000
DTSTAMP:20260423T190450
CREATED:20250908T173520Z
LAST-MODIFIED:20250908T184504Z
UID:10000933-1761067800-1761080400@rapidcprwi.com
SUMMARY:BLS Renewal Course
DESCRIPTION:
URL:https://rapidcprwi.com/event/bls-renewal-course-210/
LOCATION:Rapid CPR and First Aid\, 5610 Medical Circle\, Suite 24\, Madison\, WI\, 53719\, United States
CATEGORIES:BLS Renewal Course
ORGANIZER;CN="Rapid CPR and First Aid":MAILTO:rapidcprwi@gmail.com
END:VEVENT
BEGIN:VEVENT
DTSTART;TZID=America/Chicago:20251021T173000
DTEND;TZID=America/Chicago:20251021T210000
DTSTAMP:20260423T190450
CREATED:20250908T162944Z
LAST-MODIFIED:20250908T162944Z
UID:10000918-1761067800-1761080400@rapidcprwi.com
SUMMARY:BLS Full Course
DESCRIPTION:
URL:https://rapidcprwi.com/event/bls-full-course-194/
LOCATION:Rapid CPR and First Aid\, 5610 Medical Circle\, Suite 24\, Madison\, WI\, 53719\, United States
CATEGORIES:BLS Course
ORGANIZER;CN="Rapid CPR and First Aid":MAILTO:rapidcprwi@gmail.com
END:VEVENT
BEGIN:VEVENT
DTSTART;TZID=America/Chicago:20251021T170000
DTEND;TZID=America/Chicago:20251021T180000
DTSTAMP:20260423T190450
CREATED:20250908T191826Z
LAST-MODIFIED:20250908T191826Z
UID:10000947-1761066000-1761069600@rapidcprwi.com
SUMMARY:BLS Skill Session
DESCRIPTION:
URL:https://rapidcprwi.com/event/bls-skill-session-10/
LOCATION:Rapid CPR and First Aid\, 5610 Medical Circle\, Suite 24\, Madison\, WI\, 53719\, United States
CATEGORIES:BLS Skill Session
ORGANIZER;CN="Rapid CPR and First Aid":MAILTO:rapidcprwi@gmail.com
END:VEVENT
BEGIN:VEVENT
DTSTART;TZID=America/Chicago:20251021T160000
DTEND;TZID=America/Chicago:20251021T180000
DTSTAMP:20260423T190450
CREATED:20250908T192742Z
LAST-MODIFIED:20250908T192742Z
UID:10000957-1761062400-1761069600@rapidcprwi.com
SUMMARY:ACLS Skill Session
DESCRIPTION:
URL:https://rapidcprwi.com/event/acls-skill-session-5/
LOCATION:Rapid CPR and First Aid\, 5610 Medical Circle\, Suite 24\, Madison\, WI\, 53719\, United States
CATEGORIES:ACLS Skills Session
ORGANIZER;CN="Rapid CPR and First Aid":MAILTO:rapidcprwi@gmail.com
END:VEVENT
BEGIN:VEVENT
DTSTART;TZID=America/Chicago:20251019T080000
DTEND;TZID=America/Chicago:20251019T170000
DTSTAMP:20260423T190450
CREATED:20251010T140046Z
LAST-MODIFIED:20251010T140046Z
UID:10001017-1760860800-1760893200@rapidcprwi.com
SUMMARY:test 3
DESCRIPTION:
URL:https://rapidcprwi.com/event/test-3/
LOCATION:Rapid CPR and First Aid\, 5610 Medical Circle\, Suite 24\, Madison\, WI\, 53719\, United States
CATEGORIES:BLS Course
ORGANIZER;CN="Rapid CPR and First Aid":MAILTO:rapidcprwi@gmail.com
END:VEVENT
BEGIN:VEVENT
DTSTART;TZID=America/Chicago:20251019T080000
DTEND;TZID=America/Chicago:20251019T170000
DTSTAMP:20260423T190450
CREATED:20251010T135848Z
LAST-MODIFIED:20251010T135848Z
UID:10001016-1760860800-1760893200@rapidcprwi.com
SUMMARY:test 2
DESCRIPTION:
URL:https://rapidcprwi.com/event/test-2-2/
LOCATION:Rapid CPR and First Aid\, 5610 Medical Circle\, Suite 24\, Madison\, WI\, 53719\, United States
CATEGORIES:BLS Course
ORGANIZER;CN="Rapid CPR and First Aid":MAILTO:rapidcprwi@gmail.com
END:VEVENT
BEGIN:VEVENT
DTSTART;TZID=America/Chicago:20251019T080000
DTEND;TZID=America/Chicago:20251019T170000
DTSTAMP:20260423T190450
CREATED:20251008T195501Z
LAST-MODIFIED:20251008T195501Z
UID:10001015-1760860800-1760893200@rapidcprwi.com
SUMMARY:test
DESCRIPTION:
URL:https://rapidcprwi.com/event/test/
LOCATION:Rapid CPR and First Aid\, 5610 Medical Circle\, Suite 24\, Madison\, WI\, 53719\, United States
CATEGORIES:BLS Course
ORGANIZER;CN="Rapid CPR and First Aid":MAILTO:rapidcprwi@gmail.com
END:VEVENT
BEGIN:VEVENT
DTSTART;TZID=America/Chicago:20251016T173000
DTEND;TZID=America/Chicago:20251016T210000
DTSTAMP:20260423T190450
CREATED:20250908T173437Z
LAST-MODIFIED:20250908T184505Z
UID:10000932-1760635800-1760648400@rapidcprwi.com
SUMMARY:BLS Renewal Course
DESCRIPTION:
URL:https://rapidcprwi.com/event/bls-renewal-course-209/
LOCATION:Rapid CPR and First Aid\, 5610 Medical Circle\, Suite 24\, Madison\, WI\, 53719\, United States
CATEGORIES:BLS Renewal Course
ORGANIZER;CN="Rapid CPR and First Aid":MAILTO:rapidcprwi@gmail.com
END:VEVENT
BEGIN:VEVENT
DTSTART;TZID=America/Chicago:20251016T173000
DTEND;TZID=America/Chicago:20251016T210000
DTSTAMP:20260423T190450
CREATED:20250908T162857Z
LAST-MODIFIED:20250908T162857Z
UID:10000917-1760635800-1760648400@rapidcprwi.com
SUMMARY:BLS Full Course
DESCRIPTION:
URL:https://rapidcprwi.com/event/bls-full-course-193/
LOCATION:Rapid CPR and First Aid\, 5610 Medical Circle\, Suite 24\, Madison\, WI\, 53719\, United States
CATEGORIES:BLS Course
ORGANIZER;CN="Rapid CPR and First Aid":MAILTO:rapidcprwi@gmail.com
END:VEVENT
BEGIN:VEVENT
DTSTART;TZID=America/Chicago:20251016T170000
DTEND;TZID=America/Chicago:20251016T180000
DTSTAMP:20260423T190450
CREATED:20250908T191748Z
LAST-MODIFIED:20250908T191748Z
UID:10000946-1760634000-1760637600@rapidcprwi.com
SUMMARY:BLS Skill Session
DESCRIPTION:
URL:https://rapidcprwi.com/event/bls-skill-session-9/
LOCATION:Rapid CPR and First Aid\, 5610 Medical Circle\, Suite 24\, Madison\, WI\, 53719\, United States
CATEGORIES:BLS Skill Session
ORGANIZER;CN="Rapid CPR and First Aid":MAILTO:rapidcprwi@gmail.com
END:VEVENT
BEGIN:VEVENT
DTSTART;TZID=America/Chicago:20251016T160000
DTEND;TZID=America/Chicago:20251016T180000
DTSTAMP:20260423T190450
CREATED:20250908T193336Z
LAST-MODIFIED:20250908T193336Z
UID:10000966-1760630400-1760637600@rapidcprwi.com
SUMMARY:PALS Skill Session
DESCRIPTION:
URL:https://rapidcprwi.com/event/pals-skill-session-6/
LOCATION:Rapid CPR and First Aid\, 5610 Medical Circle\, Suite 24\, Madison\, WI\, 53719\, United States
CATEGORIES:PALS Skills Session
ORGANIZER;CN="Rapid CPR and First Aid":MAILTO:rapidcprwi@gmail.com
END:VEVENT
BEGIN:VEVENT
DTSTART;TZID=America/Chicago:20251015T130000
DTEND;TZID=America/Chicago:20251015T150000
DTSTAMP:20260423T190450
CREATED:20250908T193251Z
LAST-MODIFIED:20250908T193251Z
UID:10000965-1760533200-1760540400@rapidcprwi.com
SUMMARY:PALS Skill Session
DESCRIPTION:
URL:https://rapidcprwi.com/event/pals-skill-session-5/
LOCATION:Rapid CPR and First Aid\, 5610 Medical Circle\, Suite 24\, Madison\, WI\, 53719\, United States
CATEGORIES:PALS Skills Session
ORGANIZER;CN="Rapid CPR and First Aid":MAILTO:rapidcprwi@gmail.com
END:VEVENT
BEGIN:VEVENT
DTSTART;TZID=America/Chicago:20251015T110000
DTEND;TZID=America/Chicago:20251015T130000
DTSTAMP:20260423T190450
CREATED:20250908T192707Z
LAST-MODIFIED:20250908T192707Z
UID:10000956-1760526000-1760533200@rapidcprwi.com
SUMMARY:ACLS Skill Session
DESCRIPTION:
URL:https://rapidcprwi.com/event/acls-skill-session-4/
LOCATION:Rapid CPR and First Aid\, 5610 Medical Circle\, Suite 24\, Madison\, WI\, 53719\, United States
CATEGORIES:ACLS Skills Session
ORGANIZER;CN="Rapid CPR and First Aid":MAILTO:rapidcprwi@gmail.com
END:VEVENT
BEGIN:VEVENT
DTSTART;TZID=America/Chicago:20251015T090000
DTEND;TZID=America/Chicago:20251015T130000
DTSTAMP:20260423T190450
CREATED:20250908T173357Z
LAST-MODIFIED:20250908T184505Z
UID:10000931-1760518800-1760533200@rapidcprwi.com
SUMMARY:BLS Renewal Course
DESCRIPTION:
URL:https://rapidcprwi.com/event/bls-renewal-course-208/
LOCATION:Rapid CPR and First Aid\, 5610 Medical Circle\, Suite 24\, Madison\, WI\, 53719\, United States
CATEGORIES:BLS Renewal Course
ORGANIZER;CN="Rapid CPR and First Aid":MAILTO:rapidcprwi@gmail.com
END:VEVENT
BEGIN:VEVENT
DTSTART;TZID=America/Chicago:20251015T090000
DTEND;TZID=America/Chicago:20251015T130000
DTSTAMP:20260423T190450
CREATED:20250908T162810Z
LAST-MODIFIED:20250908T162810Z
UID:10000916-1760518800-1760533200@rapidcprwi.com
SUMMARY:BLS Full Course
DESCRIPTION:
URL:https://rapidcprwi.com/event/bls-full-course-192/
LOCATION:Rapid CPR and First Aid\, 5610 Medical Circle\, Suite 24\, Madison\, WI\, 53719\, United States
CATEGORIES:BLS Course
ORGANIZER;CN="Rapid CPR and First Aid":MAILTO:rapidcprwi@gmail.com
END:VEVENT
BEGIN:VEVENT
DTSTART;TZID=America/Chicago:20251015T083000
DTEND;TZID=America/Chicago:20251015T093000
DTSTAMP:20260423T190450
CREATED:20250908T191708Z
LAST-MODIFIED:20250908T191708Z
UID:10000945-1760517000-1760520600@rapidcprwi.com
SUMMARY:BLS Skill Session
DESCRIPTION:
URL:https://rapidcprwi.com/event/bls-skill-session-8/
LOCATION:Rapid CPR and First Aid\, 5610 Medical Circle\, Suite 24\, Madison\, WI\, 53719\, United States
CATEGORIES:BLS Skill Session
ORGANIZER;CN="Rapid CPR and First Aid":MAILTO:rapidcprwi@gmail.com
END:VEVENT
BEGIN:VEVENT
DTSTART;TZID=America/Chicago:20251014T173000
DTEND;TZID=America/Chicago:20251014T210000
DTSTAMP:20260423T190450
CREATED:20250908T173314Z
LAST-MODIFIED:20250908T184505Z
UID:10000930-1760463000-1760475600@rapidcprwi.com
SUMMARY:BLS Renewal Course
DESCRIPTION:
URL:https://rapidcprwi.com/event/bls-renewal-course-207/
LOCATION:Rapid CPR and First Aid\, 5610 Medical Circle\, Suite 24\, Madison\, WI\, 53719\, United States
CATEGORIES:BLS Renewal Course
ORGANIZER;CN="Rapid CPR and First Aid":MAILTO:rapidcprwi@gmail.com
END:VEVENT
BEGIN:VEVENT
DTSTART;TZID=America/Chicago:20251014T173000
DTEND;TZID=America/Chicago:20251014T210000
DTSTAMP:20260423T190450
CREATED:20250908T162648Z
LAST-MODIFIED:20250908T162648Z
UID:10000915-1760463000-1760475600@rapidcprwi.com
SUMMARY:BLS Full Course
DESCRIPTION:
URL:https://rapidcprwi.com/event/bls-full-course-191/
LOCATION:Rapid CPR and First Aid\, 5610 Medical Circle\, Suite 24\, Madison\, WI\, 53719\, United States
CATEGORIES:BLS Course
ORGANIZER;CN="Rapid CPR and First Aid":MAILTO:rapidcprwi@gmail.com
END:VEVENT
BEGIN:VEVENT
DTSTART;TZID=America/Chicago:20251014T170000
DTEND;TZID=America/Chicago:20251014T180000
DTSTAMP:20260423T190450
CREATED:20250908T191623Z
LAST-MODIFIED:20250908T191623Z
UID:10000944-1760461200-1760464800@rapidcprwi.com
SUMMARY:BLS Skill Session
DESCRIPTION:
URL:https://rapidcprwi.com/event/bls-skill-session-7/
LOCATION:Rapid CPR and First Aid\, 5610 Medical Circle\, Suite 24\, Madison\, WI\, 53719\, United States
CATEGORIES:BLS Skill Session
ORGANIZER;CN="Rapid CPR and First Aid":MAILTO:rapidcprwi@gmail.com
END:VEVENT
BEGIN:VEVENT
DTSTART;TZID=America/Chicago:20251014T160000
DTEND;TZID=America/Chicago:20251014T180000
DTSTAMP:20260423T190451
CREATED:20250908T192618Z
LAST-MODIFIED:20250908T192618Z
UID:10000955-1760457600-1760464800@rapidcprwi.com
SUMMARY:ACLS Skill Session
DESCRIPTION:
URL:https://rapidcprwi.com/event/acls-skill-session-3/
LOCATION:Rapid CPR and First Aid\, 5610 Medical Circle\, Suite 24\, Madison\, WI\, 53719\, United States
CATEGORIES:ACLS Skills Session
ORGANIZER;CN="Rapid CPR and First Aid":MAILTO:rapidcprwi@gmail.com
END:VEVENT
BEGIN:VEVENT
DTSTART;TZID=America/Chicago:20251009T173000
DTEND;TZID=America/Chicago:20251009T210000
DTSTAMP:20260423T190451
CREATED:20250908T173229Z
LAST-MODIFIED:20250908T184506Z
UID:10000929-1760031000-1760043600@rapidcprwi.com
SUMMARY:BLS Renewal Course
DESCRIPTION:
URL:https://rapidcprwi.com/event/bls-renewal-course-206/
LOCATION:Rapid CPR and First Aid\, 5610 Medical Circle\, Suite 24\, Madison\, WI\, 53719\, United States
CATEGORIES:BLS Renewal Course
ORGANIZER;CN="Rapid CPR and First Aid":MAILTO:rapidcprwi@gmail.com
END:VEVENT
BEGIN:VEVENT
DTSTART;TZID=America/Chicago:20251009T173000
DTEND;TZID=America/Chicago:20251009T210000
DTSTAMP:20260423T190451
CREATED:20250908T162555Z
LAST-MODIFIED:20250908T162555Z
UID:10000914-1760031000-1760043600@rapidcprwi.com
SUMMARY:BLS Full Course
DESCRIPTION:
URL:https://rapidcprwi.com/event/bls-full-course-190/
LOCATION:Rapid CPR and First Aid\, 5610 Medical Circle\, Suite 24\, Madison\, WI\, 53719\, United States
CATEGORIES:BLS Course
ORGANIZER;CN="Rapid CPR and First Aid":MAILTO:rapidcprwi@gmail.com
END:VEVENT
BEGIN:VEVENT
DTSTART;TZID=America/Chicago:20251009T170000
DTEND;TZID=America/Chicago:20251009T180000
DTSTAMP:20260423T190451
CREATED:20250908T191546Z
LAST-MODIFIED:20250908T191546Z
UID:10000943-1760029200-1760032800@rapidcprwi.com
SUMMARY:BLS Skill Session
DESCRIPTION:
URL:https://rapidcprwi.com/event/bls-skill-session-6/
LOCATION:Rapid CPR and First Aid\, 5610 Medical Circle\, Suite 24\, Madison\, WI\, 53719\, United States
CATEGORIES:BLS Skill Session
ORGANIZER;CN="Rapid CPR and First Aid":MAILTO:rapidcprwi@gmail.com
END:VEVENT
BEGIN:VEVENT
DTSTART;TZID=America/Chicago:20251009T160000
DTEND;TZID=America/Chicago:20251009T180000
DTSTAMP:20260423T190451
CREATED:20250908T193210Z
LAST-MODIFIED:20250908T193210Z
UID:10000964-1760025600-1760032800@rapidcprwi.com
SUMMARY:PALS Skill Session
DESCRIPTION:
URL:https://rapidcprwi.com/event/pals-skill-session-4/
LOCATION:Rapid CPR and First Aid\, 5610 Medical Circle\, Suite 24\, Madison\, WI\, 53719\, United States
CATEGORIES:PALS Skills Session
ORGANIZER;CN="Rapid CPR and First Aid":MAILTO:rapidcprwi@gmail.com
END:VEVENT
END:VCALENDAR