BEGIN:VCALENDAR
VERSION:2.0
PRODID:-//Rapid CPR and First Aid - ECPv6.15.20//NONSGML v1.0//EN
CALSCALE:GREGORIAN
METHOD:PUBLISH
X-WR-CALNAME:Rapid CPR and First Aid
X-ORIGINAL-URL:https://rapidcprwi.com
X-WR-CALDESC:Events for Rapid CPR and First Aid
REFRESH-INTERVAL;VALUE=DURATION:PT1H
X-Robots-Tag:noindex
X-PUBLISHED-TTL:PT1H
BEGIN:VTIMEZONE
TZID:America/Chicago
BEGIN:DAYLIGHT
TZOFFSETFROM:-0600
TZOFFSETTO:-0500
TZNAME:CDT
DTSTART:20240310T080000
END:DAYLIGHT
BEGIN:STANDARD
TZOFFSETFROM:-0500
TZOFFSETTO:-0600
TZNAME:CST
DTSTART:20241103T070000
END:STANDARD
BEGIN:DAYLIGHT
TZOFFSETFROM:-0600
TZOFFSETTO:-0500
TZNAME:CDT
DTSTART:20250309T080000
END:DAYLIGHT
BEGIN:STANDARD
TZOFFSETFROM:-0500
TZOFFSETTO:-0600
TZNAME:CST
DTSTART:20251102T070000
END:STANDARD
BEGIN:DAYLIGHT
TZOFFSETFROM:-0600
TZOFFSETTO:-0500
TZNAME:CDT
DTSTART:20260308T080000
END:DAYLIGHT
BEGIN:STANDARD
TZOFFSETFROM:-0500
TZOFFSETTO:-0600
TZNAME:CST
DTSTART:20261101T070000
END:STANDARD
END:VTIMEZONE
BEGIN:VEVENT
DTSTART;TZID=America/Chicago:20251009T170000
DTEND;TZID=America/Chicago:20251009T180000
DTSTAMP:20260423T192510
CREATED:20250908T191546Z
LAST-MODIFIED:20250908T191546Z
UID:10000943-1760029200-1760032800@rapidcprwi.com
SUMMARY:BLS Skill Session
DESCRIPTION:
URL:https://rapidcprwi.com/event/bls-skill-session-6/
LOCATION:Rapid CPR and First Aid\, 5610 Medical Circle\, Suite 24\, Madison\, WI\, 53719\, United States
CATEGORIES:BLS Skill Session
ORGANIZER;CN="Rapid CPR and First Aid":MAILTO:rapidcprwi@gmail.com
END:VEVENT
BEGIN:VEVENT
DTSTART;TZID=America/Chicago:20251009T160000
DTEND;TZID=America/Chicago:20251009T180000
DTSTAMP:20260423T192510
CREATED:20250908T193210Z
LAST-MODIFIED:20250908T193210Z
UID:10000964-1760025600-1760032800@rapidcprwi.com
SUMMARY:PALS Skill Session
DESCRIPTION:
URL:https://rapidcprwi.com/event/pals-skill-session-4/
LOCATION:Rapid CPR and First Aid\, 5610 Medical Circle\, Suite 24\, Madison\, WI\, 53719\, United States
CATEGORIES:PALS Skills Session
ORGANIZER;CN="Rapid CPR and First Aid":MAILTO:rapidcprwi@gmail.com
END:VEVENT
BEGIN:VEVENT
DTSTART;TZID=America/Chicago:20251008T130000
DTEND;TZID=America/Chicago:20251008T150000
DTSTAMP:20260423T192510
CREATED:20250908T193130Z
LAST-MODIFIED:20250908T193130Z
UID:10000963-1759928400-1759935600@rapidcprwi.com
SUMMARY:PALS Skill Session
DESCRIPTION:
URL:https://rapidcprwi.com/event/pals-skill-session-3/
LOCATION:Rapid CPR and First Aid\, 5610 Medical Circle\, Suite 24\, Madison\, WI\, 53719\, United States
CATEGORIES:PALS Skills Session
ORGANIZER;CN="Rapid CPR and First Aid":MAILTO:rapidcprwi@gmail.com
END:VEVENT
BEGIN:VEVENT
DTSTART;TZID=America/Chicago:20251008T110000
DTEND;TZID=America/Chicago:20251008T130000
DTSTAMP:20260423T192510
CREATED:20250908T192522Z
LAST-MODIFIED:20250908T192522Z
UID:10000954-1759921200-1759928400@rapidcprwi.com
SUMMARY:ACLS Skill Session
DESCRIPTION:
URL:https://rapidcprwi.com/event/acls-skill-session-2/
LOCATION:Rapid CPR and First Aid\, 5610 Medical Circle\, Suite 24\, Madison\, WI\, 53719\, United States
CATEGORIES:ACLS Skills Session
ORGANIZER;CN="Rapid CPR and First Aid":MAILTO:rapidcprwi@gmail.com
END:VEVENT
BEGIN:VEVENT
DTSTART;TZID=America/Chicago:20251008T090000
DTEND;TZID=America/Chicago:20251008T130000
DTSTAMP:20260423T192510
CREATED:20250908T173144Z
LAST-MODIFIED:20250908T184406Z
UID:10000928-1759914000-1759928400@rapidcprwi.com
SUMMARY:BLS Renewal Course
DESCRIPTION:
URL:https://rapidcprwi.com/event/bls-renewal-course-205/
LOCATION:Rapid CPR and First Aid\, 5610 Medical Circle\, Suite 24\, Madison\, WI\, 53719\, United States
CATEGORIES:BLS Renewal Course
ORGANIZER;CN="Rapid CPR and First Aid":MAILTO:rapidcprwi@gmail.com
END:VEVENT
BEGIN:VEVENT
DTSTART;TZID=America/Chicago:20251008T090000
DTEND;TZID=America/Chicago:20251008T130000
DTSTAMP:20260423T192510
CREATED:20250908T162506Z
LAST-MODIFIED:20250908T162506Z
UID:10000913-1759914000-1759928400@rapidcprwi.com
SUMMARY:BLS Full Course
DESCRIPTION:
URL:https://rapidcprwi.com/event/bls-full-course-189/
LOCATION:Rapid CPR and First Aid\, 5610 Medical Circle\, Suite 24\, Madison\, WI\, 53719\, United States
CATEGORIES:BLS Course
ORGANIZER;CN="Rapid CPR and First Aid":MAILTO:rapidcprwi@gmail.com
END:VEVENT
BEGIN:VEVENT
DTSTART;TZID=America/Chicago:20251008T083000
DTEND;TZID=America/Chicago:20251008T093000
DTSTAMP:20260423T192510
CREATED:20250908T191506Z
LAST-MODIFIED:20250908T191506Z
UID:10000942-1759912200-1759915800@rapidcprwi.com
SUMMARY:BLS Skill Session
DESCRIPTION:
URL:https://rapidcprwi.com/event/bls-skill-session-5/
LOCATION:Rapid CPR and First Aid\, 5610 Medical Circle\, Suite 24\, Madison\, WI\, 53719\, United States
CATEGORIES:BLS Skill Session
ORGANIZER;CN="Rapid CPR and First Aid":MAILTO:rapidcprwi@gmail.com
END:VEVENT
BEGIN:VEVENT
DTSTART;TZID=America/Chicago:20251007T173000
DTEND;TZID=America/Chicago:20251007T210000
DTSTAMP:20260423T192510
CREATED:20250908T173057Z
LAST-MODIFIED:20250908T184406Z
UID:10000927-1759858200-1759870800@rapidcprwi.com
SUMMARY:BLS Renewal Course
DESCRIPTION:
URL:https://rapidcprwi.com/event/bls-renewal-course-204/
LOCATION:Rapid CPR and First Aid\, 5610 Medical Circle\, Suite 24\, Madison\, WI\, 53719\, United States
CATEGORIES:BLS Renewal Course
ORGANIZER;CN="Rapid CPR and First Aid":MAILTO:rapidcprwi@gmail.com
END:VEVENT
BEGIN:VEVENT
DTSTART;TZID=America/Chicago:20251007T173000
DTEND;TZID=America/Chicago:20251007T210000
DTSTAMP:20260423T192510
CREATED:20250908T162412Z
LAST-MODIFIED:20250908T162412Z
UID:10000912-1759858200-1759870800@rapidcprwi.com
SUMMARY:BLS Full Course
DESCRIPTION:
URL:https://rapidcprwi.com/event/bls-full-course-188/
LOCATION:Rapid CPR and First Aid\, 5610 Medical Circle\, Suite 24\, Madison\, WI\, 53719\, United States
CATEGORIES:BLS Course
ORGANIZER;CN="Rapid CPR and First Aid":MAILTO:rapidcprwi@gmail.com
END:VEVENT
BEGIN:VEVENT
DTSTART;TZID=America/Chicago:20251007T170000
DTEND;TZID=America/Chicago:20251007T180000
DTSTAMP:20260423T192510
CREATED:20250908T191414Z
LAST-MODIFIED:20250908T191414Z
UID:10000941-1759856400-1759860000@rapidcprwi.com
SUMMARY:BLS Skill Session
DESCRIPTION:
URL:https://rapidcprwi.com/event/bls-skill-session-4/
LOCATION:Rapid CPR and First Aid\, 5610 Medical Circle\, Suite 24\, Madison\, WI\, 53719\, United States
CATEGORIES:BLS Skill Session
ORGANIZER;CN="Rapid CPR and First Aid":MAILTO:rapidcprwi@gmail.com
END:VEVENT
BEGIN:VEVENT
DTSTART;TZID=America/Chicago:20251007T160000
DTEND;TZID=America/Chicago:20251007T180000
DTSTAMP:20260423T192510
CREATED:20250908T192434Z
LAST-MODIFIED:20250908T192434Z
UID:10000953-1759852800-1759860000@rapidcprwi.com
SUMMARY:ACLS Skill Session
DESCRIPTION:
URL:https://rapidcprwi.com/event/acls-skill-session/
LOCATION:Rapid CPR and First Aid\, 5610 Medical Circle\, Suite 24\, Madison\, WI\, 53719\, United States
CATEGORIES:ACLS Skills Session
ORGANIZER;CN="Rapid CPR and First Aid":MAILTO:rapidcprwi@gmail.com
END:VEVENT
BEGIN:VEVENT
DTSTART;TZID=America/Chicago:20251002T173000
DTEND;TZID=America/Chicago:20251002T210000
DTSTAMP:20260423T192510
CREATED:20250908T172958Z
LAST-MODIFIED:20250908T184406Z
UID:10000926-1759426200-1759438800@rapidcprwi.com
SUMMARY:BLS Renewal Course
DESCRIPTION:
URL:https://rapidcprwi.com/event/bls-renewal-course-203/
LOCATION:Rapid CPR and First Aid\, 5610 Medical Circle\, Suite 24\, Madison\, WI\, 53719\, United States
CATEGORIES:BLS Renewal Course
ORGANIZER;CN="Rapid CPR and First Aid":MAILTO:rapidcprwi@gmail.com
END:VEVENT
BEGIN:VEVENT
DTSTART;TZID=America/Chicago:20251002T173000
DTEND;TZID=America/Chicago:20251002T210000
DTSTAMP:20260423T192510
CREATED:20250908T162232Z
LAST-MODIFIED:20250908T162232Z
UID:10000911-1759426200-1759438800@rapidcprwi.com
SUMMARY:BLS Full Course
DESCRIPTION:
URL:https://rapidcprwi.com/event/bls-full-course-187/
LOCATION:Rapid CPR and First Aid\, 5610 Medical Circle\, Suite 24\, Madison\, WI\, 53719\, United States
CATEGORIES:BLS Course
ORGANIZER;CN="Rapid CPR and First Aid":MAILTO:rapidcprwi@gmail.com
END:VEVENT
BEGIN:VEVENT
DTSTART;TZID=America/Chicago:20251002T170000
DTEND;TZID=America/Chicago:20251002T180000
DTSTAMP:20260423T192510
CREATED:20250908T191332Z
LAST-MODIFIED:20250908T191332Z
UID:10000940-1759424400-1759428000@rapidcprwi.com
SUMMARY:BLS Skill Session
DESCRIPTION:
URL:https://rapidcprwi.com/event/bls-skill-session-3/
LOCATION:Rapid CPR and First Aid\, 5610 Medical Circle\, Suite 24\, Madison\, WI\, 53719\, United States
CATEGORIES:BLS Skill Session
ORGANIZER;CN="Rapid CPR and First Aid":MAILTO:rapidcprwi@gmail.com
END:VEVENT
BEGIN:VEVENT
DTSTART;TZID=America/Chicago:20251002T160000
DTEND;TZID=America/Chicago:20251002T180000
DTSTAMP:20260423T192510
CREATED:20250908T193054Z
LAST-MODIFIED:20250908T193054Z
UID:10000962-1759420800-1759428000@rapidcprwi.com
SUMMARY:PALS Skill Session
DESCRIPTION:
URL:https://rapidcprwi.com/event/pals-skill-session-2/
LOCATION:Rapid CPR and First Aid\, 5610 Medical Circle\, Suite 24\, Madison\, WI\, 53719\, United States
CATEGORIES:PALS Skills Session
ORGANIZER;CN="Rapid CPR and First Aid":MAILTO:rapidcprwi@gmail.com
END:VEVENT
BEGIN:VEVENT
DTSTART;TZID=America/Chicago:20251001T130000
DTEND;TZID=America/Chicago:20251001T150000
DTSTAMP:20260423T192510
CREATED:20250908T193015Z
LAST-MODIFIED:20250908T193015Z
UID:10000961-1759323600-1759330800@rapidcprwi.com
SUMMARY:PALS Skill Session
DESCRIPTION:
URL:https://rapidcprwi.com/event/pals-skill-session/
LOCATION:Rapid CPR and First Aid\, 5610 Medical Circle\, Suite 24\, Madison\, WI\, 53719\, United States
CATEGORIES:PALS Skills Session
ORGANIZER;CN="Rapid CPR and First Aid":MAILTO:rapidcprwi@gmail.com
END:VEVENT
BEGIN:VEVENT
DTSTART;TZID=America/Chicago:20251001T110000
DTEND;TZID=America/Chicago:20251001T130000
DTSTAMP:20260423T192510
CREATED:20250908T165452Z
LAST-MODIFIED:20250908T165452Z
UID:10000924-1759316400-1759323600@rapidcprwi.com
SUMMARY:ACLS Skills Session
DESCRIPTION:
URL:https://rapidcprwi.com/event/acls-skills-session-127/
LOCATION:Rapid CPR and First Aid\, 5610 Medical Circle\, Suite 24\, Madison\, WI\, 53719\, United States
CATEGORIES:ACLS Skills Session
ORGANIZER;CN="Rapid CPR and First Aid":MAILTO:rapidcprwi@gmail.com
END:VEVENT
BEGIN:VEVENT
DTSTART;TZID=America/Chicago:20251001T090000
DTEND;TZID=America/Chicago:20251001T130000
DTSTAMP:20260423T192510
CREATED:20250908T172841Z
LAST-MODIFIED:20250908T184407Z
UID:10000925-1759309200-1759323600@rapidcprwi.com
SUMMARY:BLS Renewal Course
DESCRIPTION:
URL:https://rapidcprwi.com/event/bls-renewal-course-202/
LOCATION:Rapid CPR and First Aid\, 5610 Medical Circle\, Suite 24\, Madison\, WI\, 53719\, United States
CATEGORIES:BLS Renewal Course
ORGANIZER;CN="Rapid CPR and First Aid":MAILTO:rapidcprwi@gmail.com
END:VEVENT
BEGIN:VEVENT
DTSTART;TZID=America/Chicago:20251001T090000
DTEND;TZID=America/Chicago:20251001T130000
DTSTAMP:20260423T192510
CREATED:20250908T144348Z
LAST-MODIFIED:20250908T144348Z
UID:10000910-1759309200-1759323600@rapidcprwi.com
SUMMARY:BLS Full Course
DESCRIPTION:
URL:https://rapidcprwi.com/event/bls-full-course-186/
LOCATION:Rapid CPR and First Aid\, 5610 Medical Circle\, Suite 24\, Madison\, WI\, 53719\, United States
CATEGORIES:BLS Course
ORGANIZER;CN="Rapid CPR and First Aid":MAILTO:rapidcprwi@gmail.com
END:VEVENT
BEGIN:VEVENT
DTSTART;TZID=America/Chicago:20251001T083000
DTEND;TZID=America/Chicago:20251001T093000
DTSTAMP:20260423T192510
CREATED:20250908T191247Z
LAST-MODIFIED:20250908T191247Z
UID:10000939-1759307400-1759311000@rapidcprwi.com
SUMMARY:BLS Skill Session
DESCRIPTION:
URL:https://rapidcprwi.com/event/bls-skill-session-2/
LOCATION:Rapid CPR and First Aid\, 5610 Medical Circle\, Suite 24\, Madison\, WI\, 53719\, United States
CATEGORIES:BLS Skill Session
ORGANIZER;CN="Rapid CPR and First Aid":MAILTO:rapidcprwi@gmail.com
END:VEVENT
BEGIN:VEVENT
DTSTART;TZID=America/Chicago:20250930T173000
DTEND;TZID=America/Chicago:20250930T210000
DTSTAMP:20260423T192510
CREATED:20250813T194527Z
LAST-MODIFIED:20250908T184407Z
UID:10000881-1759253400-1759266000@rapidcprwi.com
SUMMARY:BLS Renewal Course
DESCRIPTION:
URL:https://rapidcprwi.com/event/bls-renewal-course-201/
LOCATION:Rapid CPR and First Aid\, 5610 Medical Circle\, Suite 24\, Madison\, WI\, 53719\, United States
CATEGORIES:BLS Renewal Course
ORGANIZER;CN="Rapid CPR and First Aid":MAILTO:rapidcprwi@gmail.com
END:VEVENT
BEGIN:VEVENT
DTSTART;TZID=America/Chicago:20250930T173000
DTEND;TZID=America/Chicago:20250930T210000
DTSTAMP:20260423T192510
CREATED:20250813T193441Z
LAST-MODIFIED:20250813T193441Z
UID:10000869-1759253400-1759266000@rapidcprwi.com
SUMMARY:BLS Full Course
DESCRIPTION:
URL:https://rapidcprwi.com/event/bls-full-course-185/
LOCATION:Rapid CPR and First Aid\, 5610 Medical Circle\, Suite 24\, Madison\, WI\, 53719\, United States
CATEGORIES:BLS Course
ORGANIZER;CN="Rapid CPR and First Aid":MAILTO:rapidcprwi@gmail.com
END:VEVENT
BEGIN:VEVENT
DTSTART;TZID=America/Chicago:20250930T170000
DTEND;TZID=America/Chicago:20250930T180000
DTSTAMP:20260423T192510
CREATED:20250813T195836Z
LAST-MODIFIED:20250908T184805Z
UID:10000893-1759251600-1759255200@rapidcprwi.com
SUMMARY:BLS Skills Session
DESCRIPTION:
URL:https://rapidcprwi.com/event/bls-skills-session-202/
LOCATION:Rapid CPR and First Aid\, 5610 Medical Circle\, Suite 24\, Madison\, WI\, 53719\, United States
CATEGORIES:BLS Skill Session
ORGANIZER;CN="Rapid CPR and First Aid":MAILTO:rapidcprwi@gmail.com
END:VEVENT
BEGIN:VEVENT
DTSTART;TZID=America/Chicago:20250930T160000
DTEND;TZID=America/Chicago:20250930T180000
DTSTAMP:20260423T192510
CREATED:20250813T200509Z
LAST-MODIFIED:20250813T200509Z
UID:10000901-1759248000-1759255200@rapidcprwi.com
SUMMARY:ACLS Skills Session
DESCRIPTION:
URL:https://rapidcprwi.com/event/acls-skills-session-126/
LOCATION:Rapid CPR and First Aid\, 5610 Medical Circle\, Suite 24\, Madison\, WI\, 53719\, United States
CATEGORIES:ACLS Skills Session
ORGANIZER;CN="Rapid CPR and First Aid":MAILTO:rapidcprwi@gmail.com
END:VEVENT
BEGIN:VEVENT
DTSTART;TZID=America/Chicago:20250925T173000
DTEND;TZID=America/Chicago:20250925T210000
DTSTAMP:20260423T192510
CREATED:20250813T194444Z
LAST-MODIFIED:20250908T184407Z
UID:10000880-1758821400-1758834000@rapidcprwi.com
SUMMARY:BLS Renewal Course
DESCRIPTION:
URL:https://rapidcprwi.com/event/bls-renewal-course-200/
LOCATION:Rapid CPR and First Aid\, 5610 Medical Circle\, Suite 24\, Madison\, WI\, 53719\, United States
CATEGORIES:BLS Renewal Course
ORGANIZER;CN="Rapid CPR and First Aid":MAILTO:rapidcprwi@gmail.com
END:VEVENT
BEGIN:VEVENT
DTSTART;TZID=America/Chicago:20250925T173000
DTEND;TZID=America/Chicago:20250925T210000
DTSTAMP:20260423T192510
CREATED:20250813T193354Z
LAST-MODIFIED:20250813T193354Z
UID:10000868-1758821400-1758834000@rapidcprwi.com
SUMMARY:BLS Full Course
DESCRIPTION:
URL:https://rapidcprwi.com/event/bls-full-course-184/
LOCATION:Rapid CPR and First Aid\, 5610 Medical Circle\, Suite 24\, Madison\, WI\, 53719\, United States
CATEGORIES:BLS Course
ORGANIZER;CN="Rapid CPR and First Aid":MAILTO:rapidcprwi@gmail.com
END:VEVENT
BEGIN:VEVENT
DTSTART;TZID=America/Chicago:20250925T170000
DTEND;TZID=America/Chicago:20250925T180000
DTSTAMP:20260423T192510
CREATED:20250813T195749Z
LAST-MODIFIED:20250908T184805Z
UID:10000892-1758819600-1758823200@rapidcprwi.com
SUMMARY:BLS Skills Session
DESCRIPTION:
URL:https://rapidcprwi.com/event/bls-skills-session-201/
LOCATION:Rapid CPR and First Aid\, 5610 Medical Circle\, Suite 24\, Madison\, WI\, 53719\, United States
CATEGORIES:BLS Skill Session
ORGANIZER;CN="Rapid CPR and First Aid":MAILTO:rapidcprwi@gmail.com
END:VEVENT
BEGIN:VEVENT
DTSTART;TZID=America/Chicago:20250925T160000
DTEND;TZID=America/Chicago:20250925T180000
DTSTAMP:20260423T192510
CREATED:20250813T201708Z
LAST-MODIFIED:20250813T201708Z
UID:10000909-1758816000-1758823200@rapidcprwi.com
SUMMARY:PALS Skills Session
DESCRIPTION:
URL:https://rapidcprwi.com/event/pals-skills-session-121/
LOCATION:Rapid CPR and First Aid\, 5610 Medical Circle\, Suite 24\, Madison\, WI\, 53719\, United States
CATEGORIES:PALS Skills Session
ORGANIZER;CN="Rapid CPR and First Aid":MAILTO:rapidcprwi@gmail.com
END:VEVENT
BEGIN:VEVENT
DTSTART;TZID=America/Chicago:20250924T130000
DTEND;TZID=America/Chicago:20250924T150000
DTSTAMP:20260423T192510
CREATED:20250813T201137Z
LAST-MODIFIED:20250813T201137Z
UID:10000908-1758718800-1758726000@rapidcprwi.com
SUMMARY:PALS Skills Session
DESCRIPTION:
URL:https://rapidcprwi.com/event/pals-skills-session-120/
LOCATION:Rapid CPR and First Aid\, 5610 Medical Circle\, Suite 24\, Madison\, WI\, 53719\, United States
CATEGORIES:PALS Skills Session
ORGANIZER;CN="Rapid CPR and First Aid":MAILTO:rapidcprwi@gmail.com
END:VEVENT
BEGIN:VEVENT
DTSTART;TZID=America/Chicago:20250924T110000
DTEND;TZID=America/Chicago:20250924T130000
DTSTAMP:20260423T192510
CREATED:20250813T200425Z
LAST-MODIFIED:20250813T200425Z
UID:10000900-1758711600-1758718800@rapidcprwi.com
SUMMARY:ACLS Skills Session
DESCRIPTION:
URL:https://rapidcprwi.com/event/acls-skills-session-125/
LOCATION:Rapid CPR and First Aid\, 5610 Medical Circle\, Suite 24\, Madison\, WI\, 53719\, United States
CATEGORIES:ACLS Skills Session
ORGANIZER;CN="Rapid CPR and First Aid":MAILTO:rapidcprwi@gmail.com
END:VEVENT
END:VCALENDAR