BEGIN:VCALENDAR
VERSION:2.0
PRODID:-//Rapid CPR and First Aid - ECPv6.15.20//NONSGML v1.0//EN
CALSCALE:GREGORIAN
METHOD:PUBLISH
X-ORIGINAL-URL:https://rapidcprwi.com
X-WR-CALDESC:Events for Rapid CPR and First Aid
REFRESH-INTERVAL;VALUE=DURATION:PT1H
X-Robots-Tag:noindex
X-PUBLISHED-TTL:PT1H
BEGIN:VTIMEZONE
TZID:America/Chicago
BEGIN:DAYLIGHT
TZOFFSETFROM:-0600
TZOFFSETTO:-0500
TZNAME:CDT
DTSTART:20240310T080000
END:DAYLIGHT
BEGIN:STANDARD
TZOFFSETFROM:-0500
TZOFFSETTO:-0600
TZNAME:CST
DTSTART:20241103T070000
END:STANDARD
BEGIN:DAYLIGHT
TZOFFSETFROM:-0600
TZOFFSETTO:-0500
TZNAME:CDT
DTSTART:20250309T080000
END:DAYLIGHT
BEGIN:STANDARD
TZOFFSETFROM:-0500
TZOFFSETTO:-0600
TZNAME:CST
DTSTART:20251102T070000
END:STANDARD
BEGIN:DAYLIGHT
TZOFFSETFROM:-0600
TZOFFSETTO:-0500
TZNAME:CDT
DTSTART:20260308T080000
END:DAYLIGHT
BEGIN:STANDARD
TZOFFSETFROM:-0500
TZOFFSETTO:-0600
TZNAME:CST
DTSTART:20261101T070000
END:STANDARD
END:VTIMEZONE
BEGIN:VEVENT
DTSTART;TZID=America/Chicago:20250611T110000
DTEND;TZID=America/Chicago:20250611T130000
DTSTAMP:20260423T054810
CREATED:20250525T151219Z
LAST-MODIFIED:20250525T151219Z
UID:10000799-1749639600-1749646800@rapidcprwi.com
SUMMARY:ACLS Skills Session
DESCRIPTION:
URL:https://rapidcprwi.com/event/acls-skills-session-108/
LOCATION:Rapid CPR and First Aid\, 5610 Medical Circle\, Suite 24\, Madison\, WI\, 53719\, United States
CATEGORIES:ACLS Skills Session
ORGANIZER;CN="Rapid CPR and First Aid":MAILTO:rapidcprwi@gmail.com
END:VEVENT
BEGIN:VEVENT
DTSTART;TZID=America/Chicago:20250611T130000
DTEND;TZID=America/Chicago:20250611T150000
DTSTAMP:20260423T054810
CREATED:20250525T151735Z
LAST-MODIFIED:20250525T151735Z
UID:10000805-1749646800-1749654000@rapidcprwi.com
SUMMARY:PALS Skills Session
DESCRIPTION:
URL:https://rapidcprwi.com/event/pals-skills-session-107/
LOCATION:Rapid CPR and First Aid\, 5610 Medical Circle\, Suite 24\, Madison\, WI\, 53719\, United States
CATEGORIES:PALS Skills Session
ORGANIZER;CN="Rapid CPR and First Aid":MAILTO:rapidcprwi@gmail.com
END:VEVENT
BEGIN:VEVENT
DTSTART;TZID=America/Chicago:20250612T160000
DTEND;TZID=America/Chicago:20250612T180000
DTSTAMP:20260423T054810
CREATED:20250525T151820Z
LAST-MODIFIED:20250525T151820Z
UID:10000806-1749744000-1749751200@rapidcprwi.com
SUMMARY:PALS Skills Session
DESCRIPTION:
URL:https://rapidcprwi.com/event/pals-skills-session-108/
LOCATION:Rapid CPR and First Aid\, 5610 Medical Circle\, Suite 24\, Madison\, WI\, 53719\, United States
CATEGORIES:PALS Skills Session
ORGANIZER;CN="Rapid CPR and First Aid":MAILTO:rapidcprwi@gmail.com
END:VEVENT
BEGIN:VEVENT
DTSTART;TZID=America/Chicago:20250612T170000
DTEND;TZID=America/Chicago:20250612T180000
DTSTAMP:20260423T054810
CREATED:20250525T150344Z
LAST-MODIFIED:20250525T150344Z
UID:10000790-1749747600-1749751200@rapidcprwi.com
SUMMARY:BLS Skills Session
DESCRIPTION:
URL:https://rapidcprwi.com/event/bls-skills-session-173/
LOCATION:Rapid CPR and First Aid\, 5610 Medical Circle\, Suite 24\, Madison\, WI\, 53719\, United States
ORGANIZER;CN="Rapid CPR and First Aid":MAILTO:rapidcprwi@gmail.com
END:VEVENT
BEGIN:VEVENT
DTSTART;TZID=America/Chicago:20250612T173000
DTEND;TZID=America/Chicago:20250612T210000
DTSTAMP:20260423T054810
CREATED:20250525T143452Z
LAST-MODIFIED:20250525T143452Z
UID:10000768-1749749400-1749762000@rapidcprwi.com
SUMMARY:BLS Full Course
DESCRIPTION:
URL:https://rapidcprwi.com/event/bls-full-course-155/
LOCATION:Rapid CPR and First Aid\, 5610 Medical Circle\, Suite 24\, Madison\, WI\, 53719\, United States
CATEGORIES:BLS Course
ORGANIZER;CN="Rapid CPR and First Aid":MAILTO:rapidcprwi@gmail.com
END:VEVENT
BEGIN:VEVENT
DTSTART;TZID=America/Chicago:20250612T173000
DTEND;TZID=America/Chicago:20250612T210000
DTSTAMP:20260423T054810
CREATED:20250525T145143Z
LAST-MODIFIED:20250525T145143Z
UID:10000779-1749749400-1749762000@rapidcprwi.com
SUMMARY:BLS Renewal Course
DESCRIPTION:
URL:https://rapidcprwi.com/event/bls-renewal-course-172/
LOCATION:Rapid CPR and First Aid\, 5610 Medical Circle\, Suite 24\, Madison\, WI\, 53719\, United States
ORGANIZER;CN="Rapid CPR and First Aid":MAILTO:rapidcprwi@gmail.com
END:VEVENT
BEGIN:VEVENT
DTSTART;TZID=America/Chicago:20250617T160000
DTEND;TZID=America/Chicago:20250617T180000
DTSTAMP:20260423T054810
CREATED:20250525T151311Z
LAST-MODIFIED:20250525T151311Z
UID:10000800-1750176000-1750183200@rapidcprwi.com
SUMMARY:ACLS Skills Session
DESCRIPTION:
URL:https://rapidcprwi.com/event/acls-skills-session-109/
LOCATION:Rapid CPR and First Aid\, 5610 Medical Circle\, Suite 24\, Madison\, WI\, 53719\, United States
CATEGORIES:ACLS Skills Session
ORGANIZER;CN="Rapid CPR and First Aid":MAILTO:rapidcprwi@gmail.com
END:VEVENT
BEGIN:VEVENT
DTSTART;TZID=America/Chicago:20250617T170000
DTEND;TZID=America/Chicago:20250617T180000
DTSTAMP:20260423T054810
CREATED:20250525T150441Z
LAST-MODIFIED:20250525T150441Z
UID:10000791-1750179600-1750183200@rapidcprwi.com
SUMMARY:BLS Skills Session
DESCRIPTION:
URL:https://rapidcprwi.com/event/bls-skills-session-174/
LOCATION:Rapid CPR and First Aid\, 5610 Medical Circle\, Suite 24\, Madison\, WI\, 53719\, United States
ORGANIZER;CN="Rapid CPR and First Aid":MAILTO:rapidcprwi@gmail.com
END:VEVENT
BEGIN:VEVENT
DTSTART;TZID=America/Chicago:20250617T173000
DTEND;TZID=America/Chicago:20250617T210000
DTSTAMP:20260423T054810
CREATED:20250525T143547Z
LAST-MODIFIED:20250525T143547Z
UID:10000769-1750181400-1750194000@rapidcprwi.com
SUMMARY:BLS Full Course
DESCRIPTION:
URL:https://rapidcprwi.com/event/bls-full-course-156/
LOCATION:Rapid CPR and First Aid\, 5610 Medical Circle\, Suite 24\, Madison\, WI\, 53719\, United States
CATEGORIES:BLS Course
ORGANIZER;CN="Rapid CPR and First Aid":MAILTO:rapidcprwi@gmail.com
END:VEVENT
BEGIN:VEVENT
DTSTART;TZID=America/Chicago:20250617T173000
DTEND;TZID=America/Chicago:20250617T210000
DTSTAMP:20260423T054810
CREATED:20250525T145234Z
LAST-MODIFIED:20250525T145234Z
UID:10000780-1750181400-1750194000@rapidcprwi.com
SUMMARY:BLS Renewal Course
DESCRIPTION:
URL:https://rapidcprwi.com/event/bls-renewal-course-173/
LOCATION:Rapid CPR and First Aid\, 5610 Medical Circle\, Suite 24\, Madison\, WI\, 53719\, United States
ORGANIZER;CN="Rapid CPR and First Aid":MAILTO:rapidcprwi@gmail.com
END:VEVENT
BEGIN:VEVENT
DTSTART;TZID=America/Chicago:20250618T083000
DTEND;TZID=America/Chicago:20250618T093000
DTSTAMP:20260423T054810
CREATED:20250525T150528Z
LAST-MODIFIED:20250525T150528Z
UID:10000792-1750235400-1750239000@rapidcprwi.com
SUMMARY:BLS Skills Session
DESCRIPTION:
URL:https://rapidcprwi.com/event/bls-skills-session-175/
LOCATION:Rapid CPR and First Aid\, 5610 Medical Circle\, Suite 24\, Madison\, WI\, 53719\, United States
ORGANIZER;CN="Rapid CPR and First Aid":MAILTO:rapidcprwi@gmail.com
END:VEVENT
BEGIN:VEVENT
DTSTART;TZID=America/Chicago:20250618T090000
DTEND;TZID=America/Chicago:20250618T130000
DTSTAMP:20260423T054810
CREATED:20250525T143638Z
LAST-MODIFIED:20250525T143638Z
UID:10000770-1750237200-1750251600@rapidcprwi.com
SUMMARY:BLS Full Course
DESCRIPTION:
URL:https://rapidcprwi.com/event/bls-full-course-157/
LOCATION:Rapid CPR and First Aid\, 5610 Medical Circle\, Suite 24\, Madison\, WI\, 53719\, United States
CATEGORIES:BLS Course
ORGANIZER;CN="Rapid CPR and First Aid":MAILTO:rapidcprwi@gmail.com
END:VEVENT
BEGIN:VEVENT
DTSTART;TZID=America/Chicago:20250618T090000
DTEND;TZID=America/Chicago:20250618T130000
DTSTAMP:20260423T054810
CREATED:20250525T145337Z
LAST-MODIFIED:20250525T145337Z
UID:10000781-1750237200-1750251600@rapidcprwi.com
SUMMARY:BLS Renewal Course
DESCRIPTION:
URL:https://rapidcprwi.com/event/bls-renewal-course-174/
LOCATION:Rapid CPR and First Aid\, 5610 Medical Circle\, Suite 24\, Madison\, WI\, 53719\, United States
ORGANIZER;CN="Rapid CPR and First Aid":MAILTO:rapidcprwi@gmail.com
END:VEVENT
BEGIN:VEVENT
DTSTART;TZID=America/Chicago:20250618T110000
DTEND;TZID=America/Chicago:20250618T130000
DTSTAMP:20260423T054810
CREATED:20250525T151405Z
LAST-MODIFIED:20250525T151405Z
UID:10000801-1750244400-1750251600@rapidcprwi.com
SUMMARY:ACLS Skills Session
DESCRIPTION:
URL:https://rapidcprwi.com/event/acls-skills-session-110/
LOCATION:Rapid CPR and First Aid\, 5610 Medical Circle\, Suite 24\, Madison\, WI\, 53719\, United States
CATEGORIES:ACLS Skills Session
ORGANIZER;CN="Rapid CPR and First Aid":MAILTO:rapidcprwi@gmail.com
END:VEVENT
BEGIN:VEVENT
DTSTART;TZID=America/Chicago:20250618T130000
DTEND;TZID=America/Chicago:20250618T150000
DTSTAMP:20260423T054810
CREATED:20250525T151906Z
LAST-MODIFIED:20250525T151906Z
UID:10000807-1750251600-1750258800@rapidcprwi.com
SUMMARY:PALS Skills Session
DESCRIPTION:
URL:https://rapidcprwi.com/event/pals-skills-session-109/
LOCATION:Rapid CPR and First Aid\, 5610 Medical Circle\, Suite 24\, Madison\, WI\, 53719\, United States
CATEGORIES:PALS Skills Session
ORGANIZER;CN="Rapid CPR and First Aid":MAILTO:rapidcprwi@gmail.com
END:VEVENT
BEGIN:VEVENT
DTSTART;TZID=America/Chicago:20250619T160000
DTEND;TZID=America/Chicago:20250619T180000
DTSTAMP:20260423T054810
CREATED:20250525T151952Z
LAST-MODIFIED:20250525T151952Z
UID:10000808-1750348800-1750356000@rapidcprwi.com
SUMMARY:PALS Skills Session
DESCRIPTION:
URL:https://rapidcprwi.com/event/pals-skills-session-110/
LOCATION:Rapid CPR and First Aid\, 5610 Medical Circle\, Suite 24\, Madison\, WI\, 53719\, United States
CATEGORIES:PALS Skills Session
ORGANIZER;CN="Rapid CPR and First Aid":MAILTO:rapidcprwi@gmail.com
END:VEVENT
BEGIN:VEVENT
DTSTART;TZID=America/Chicago:20250619T170000
DTEND;TZID=America/Chicago:20250619T180000
DTSTAMP:20260423T054810
CREATED:20250525T150742Z
LAST-MODIFIED:20250525T150742Z
UID:10000793-1750352400-1750356000@rapidcprwi.com
SUMMARY:BLS Skills Session
DESCRIPTION:
URL:https://rapidcprwi.com/event/bls-skills-session-176/
LOCATION:Rapid CPR and First Aid\, 5610 Medical Circle\, Suite 24\, Madison\, WI\, 53719\, United States
ORGANIZER;CN="Rapid CPR and First Aid":MAILTO:rapidcprwi@gmail.com
END:VEVENT
BEGIN:VEVENT
DTSTART;TZID=America/Chicago:20250619T173000
DTEND;TZID=America/Chicago:20250619T210000
DTSTAMP:20260423T054810
CREATED:20250525T143731Z
LAST-MODIFIED:20250525T143731Z
UID:10000771-1750354200-1750366800@rapidcprwi.com
SUMMARY:BLS Full Course
DESCRIPTION:
URL:https://rapidcprwi.com/event/bls-full-course-158/
LOCATION:Rapid CPR and First Aid\, 5610 Medical Circle\, Suite 24\, Madison\, WI\, 53719\, United States
CATEGORIES:BLS Course
ORGANIZER;CN="Rapid CPR and First Aid":MAILTO:rapidcprwi@gmail.com
END:VEVENT
BEGIN:VEVENT
DTSTART;TZID=America/Chicago:20250619T173000
DTEND;TZID=America/Chicago:20250619T210000
DTSTAMP:20260423T054810
CREATED:20250525T145426Z
LAST-MODIFIED:20250525T145426Z
UID:10000782-1750354200-1750366800@rapidcprwi.com
SUMMARY:BLS Renewal Course
DESCRIPTION:
URL:https://rapidcprwi.com/event/bls-renewal-course-175/
LOCATION:Rapid CPR and First Aid\, 5610 Medical Circle\, Suite 24\, Madison\, WI\, 53719\, United States
ORGANIZER;CN="Rapid CPR and First Aid":MAILTO:rapidcprwi@gmail.com
END:VEVENT
BEGIN:VEVENT
DTSTART;TZID=America/Chicago:20250624T160000
DTEND;TZID=America/Chicago:20250624T180000
DTSTAMP:20260423T054810
CREATED:20250525T151454Z
LAST-MODIFIED:20250525T151454Z
UID:10000802-1750780800-1750788000@rapidcprwi.com
SUMMARY:ACLS Skills Session
DESCRIPTION:
URL:https://rapidcprwi.com/event/acls-skills-session-111/
LOCATION:Rapid CPR and First Aid\, 5610 Medical Circle\, Suite 24\, Madison\, WI\, 53719\, United States
CATEGORIES:ACLS Skills Session
ORGANIZER;CN="Rapid CPR and First Aid":MAILTO:rapidcprwi@gmail.com
END:VEVENT
BEGIN:VEVENT
DTSTART;TZID=America/Chicago:20250624T170000
DTEND;TZID=America/Chicago:20250624T180000
DTSTAMP:20260423T054810
CREATED:20250525T150830Z
LAST-MODIFIED:20250525T150830Z
UID:10000794-1750784400-1750788000@rapidcprwi.com
SUMMARY:BLS Skills Session
DESCRIPTION:
URL:https://rapidcprwi.com/event/bls-skills-session-177/
LOCATION:Rapid CPR and First Aid\, 5610 Medical Circle\, Suite 24\, Madison\, WI\, 53719\, United States
ORGANIZER;CN="Rapid CPR and First Aid":MAILTO:rapidcprwi@gmail.com
END:VEVENT
BEGIN:VEVENT
DTSTART;TZID=America/Chicago:20250624T173000
DTEND;TZID=America/Chicago:20250624T210000
DTSTAMP:20260423T054810
CREATED:20250525T143831Z
LAST-MODIFIED:20250525T143831Z
UID:10000772-1750786200-1750798800@rapidcprwi.com
SUMMARY:BLS Full Course
DESCRIPTION:
URL:https://rapidcprwi.com/event/bls-full-course-159/
LOCATION:Rapid CPR and First Aid\, 5610 Medical Circle\, Suite 24\, Madison\, WI\, 53719\, United States
CATEGORIES:BLS Course
ORGANIZER;CN="Rapid CPR and First Aid":MAILTO:rapidcprwi@gmail.com
END:VEVENT
BEGIN:VEVENT
DTSTART;TZID=America/Chicago:20250624T173000
DTEND;TZID=America/Chicago:20250624T210000
DTSTAMP:20260423T054810
CREATED:20250525T145643Z
LAST-MODIFIED:20250525T145643Z
UID:10000783-1750786200-1750798800@rapidcprwi.com
SUMMARY:BLS Renewal Course
DESCRIPTION:
URL:https://rapidcprwi.com/event/bls-renewal-course-176/
LOCATION:Rapid CPR and First Aid\, 5610 Medical Circle\, Suite 24\, Madison\, WI\, 53719\, United States
ORGANIZER;CN="Rapid CPR and First Aid":MAILTO:rapidcprwi@gmail.com
END:VEVENT
BEGIN:VEVENT
DTSTART;TZID=America/Chicago:20250625T083000
DTEND;TZID=America/Chicago:20250625T093000
DTSTAMP:20260423T054810
CREATED:20250525T150916Z
LAST-MODIFIED:20250525T150916Z
UID:10000795-1750840200-1750843800@rapidcprwi.com
SUMMARY:BLS Skills Session
DESCRIPTION:
URL:https://rapidcprwi.com/event/bls-skills-session-178/
LOCATION:Rapid CPR and First Aid\, 5610 Medical Circle\, Suite 24\, Madison\, WI\, 53719\, United States
ORGANIZER;CN="Rapid CPR and First Aid":MAILTO:rapidcprwi@gmail.com
END:VEVENT
BEGIN:VEVENT
DTSTART;TZID=America/Chicago:20250625T090000
DTEND;TZID=America/Chicago:20250625T130000
DTSTAMP:20260423T054810
CREATED:20250525T143942Z
LAST-MODIFIED:20250525T143942Z
UID:10000773-1750842000-1750856400@rapidcprwi.com
SUMMARY:BLS Full Course
DESCRIPTION:
URL:https://rapidcprwi.com/event/bls-full-course-160/
LOCATION:Rapid CPR and First Aid\, 5610 Medical Circle\, Suite 24\, Madison\, WI\, 53719\, United States
CATEGORIES:BLS Course
ORGANIZER;CN="Rapid CPR and First Aid":MAILTO:rapidcprwi@gmail.com
END:VEVENT
BEGIN:VEVENT
DTSTART;TZID=America/Chicago:20250625T090000
DTEND;TZID=America/Chicago:20250625T130000
DTSTAMP:20260423T054810
CREATED:20250525T145843Z
LAST-MODIFIED:20250525T145843Z
UID:10000784-1750842000-1750856400@rapidcprwi.com
SUMMARY:BLS Renewal Course
DESCRIPTION:
URL:https://rapidcprwi.com/event/bls-renewal-course-177/
LOCATION:Rapid CPR and First Aid\, 5610 Medical Circle\, Suite 24\, Madison\, WI\, 53719\, United States
ORGANIZER;CN="Rapid CPR and First Aid":MAILTO:rapidcprwi@gmail.com
END:VEVENT
BEGIN:VEVENT
DTSTART;TZID=America/Chicago:20250625T110000
DTEND;TZID=America/Chicago:20250625T130000
DTSTAMP:20260423T054810
CREATED:20250525T151546Z
LAST-MODIFIED:20250525T151546Z
UID:10000803-1750849200-1750856400@rapidcprwi.com
SUMMARY:ACLS Skills Session
DESCRIPTION:
URL:https://rapidcprwi.com/event/acls-skills-session-112/
LOCATION:Rapid CPR and First Aid\, 5610 Medical Circle\, Suite 24\, Madison\, WI\, 53719\, United States
CATEGORIES:ACLS Skills Session
ORGANIZER;CN="Rapid CPR and First Aid":MAILTO:rapidcprwi@gmail.com
END:VEVENT
BEGIN:VEVENT
DTSTART;TZID=America/Chicago:20250625T130000
DTEND;TZID=America/Chicago:20250625T150000
DTSTAMP:20260423T054810
CREATED:20250525T152053Z
LAST-MODIFIED:20250525T152053Z
UID:10000809-1750856400-1750863600@rapidcprwi.com
SUMMARY:PALS Skills Session
DESCRIPTION:
URL:https://rapidcprwi.com/event/pals-skills-session-111/
LOCATION:Rapid CPR and First Aid\, 5610 Medical Circle\, Suite 24\, Madison\, WI\, 53719\, United States
CATEGORIES:PALS Skills Session
ORGANIZER;CN="Rapid CPR and First Aid":MAILTO:rapidcprwi@gmail.com
END:VEVENT
BEGIN:VEVENT
DTSTART;TZID=America/Chicago:20250626T160000
DTEND;TZID=America/Chicago:20250626T180000
DTSTAMP:20260423T054810
CREATED:20250525T152137Z
LAST-MODIFIED:20250525T152137Z
UID:10000810-1750953600-1750960800@rapidcprwi.com
SUMMARY:PALS Skills Session
DESCRIPTION:
URL:https://rapidcprwi.com/event/pals-skills-session-112/
LOCATION:Rapid CPR and First Aid\, 5610 Medical Circle\, Suite 24\, Madison\, WI\, 53719\, United States
CATEGORIES:PALS Skills Session
ORGANIZER;CN="Rapid CPR and First Aid":MAILTO:rapidcprwi@gmail.com
END:VEVENT
BEGIN:VEVENT
DTSTART;TZID=America/Chicago:20250626T170000
DTEND;TZID=America/Chicago:20250626T180000
DTSTAMP:20260423T054810
CREATED:20250525T151000Z
LAST-MODIFIED:20250525T151000Z
UID:10000796-1750957200-1750960800@rapidcprwi.com
SUMMARY:BLS Skills Session
DESCRIPTION:
URL:https://rapidcprwi.com/event/bls-skills-session-179/
LOCATION:Rapid CPR and First Aid\, 5610 Medical Circle\, Suite 24\, Madison\, WI\, 53719\, United States
ORGANIZER;CN="Rapid CPR and First Aid":MAILTO:rapidcprwi@gmail.com
END:VEVENT
END:VCALENDAR