BEGIN:VCALENDAR
VERSION:2.0
PRODID:-//Rapid CPR and First Aid - ECPv6.15.20//NONSGML v1.0//EN
CALSCALE:GREGORIAN
METHOD:PUBLISH
X-WR-CALNAME:Rapid CPR and First Aid
X-ORIGINAL-URL:https://rapidcprwi.com
X-WR-CALDESC:Events for Rapid CPR and First Aid
REFRESH-INTERVAL;VALUE=DURATION:PT1H
X-Robots-Tag:noindex
X-PUBLISHED-TTL:PT1H
BEGIN:VTIMEZONE
TZID:America/Chicago
BEGIN:DAYLIGHT
TZOFFSETFROM:-0600
TZOFFSETTO:-0500
TZNAME:CDT
DTSTART:20240310T080000
END:DAYLIGHT
BEGIN:STANDARD
TZOFFSETFROM:-0500
TZOFFSETTO:-0600
TZNAME:CST
DTSTART:20241103T070000
END:STANDARD
BEGIN:DAYLIGHT
TZOFFSETFROM:-0600
TZOFFSETTO:-0500
TZNAME:CDT
DTSTART:20250309T080000
END:DAYLIGHT
BEGIN:STANDARD
TZOFFSETFROM:-0500
TZOFFSETTO:-0600
TZNAME:CST
DTSTART:20251102T070000
END:STANDARD
BEGIN:DAYLIGHT
TZOFFSETFROM:-0600
TZOFFSETTO:-0500
TZNAME:CDT
DTSTART:20260308T080000
END:DAYLIGHT
BEGIN:STANDARD
TZOFFSETFROM:-0500
TZOFFSETTO:-0600
TZNAME:CST
DTSTART:20261101T070000
END:STANDARD
END:VTIMEZONE
BEGIN:VEVENT
DTSTART;TZID=America/Chicago:20250416T090000
DTEND;TZID=America/Chicago:20250416T130000
DTSTAMP:20260423T151442
CREATED:20250301T203009Z
LAST-MODIFIED:20250301T203009Z
UID:10000674-1744794000-1744808400@rapidcprwi.com
SUMMARY:BLS Renewal Course
DESCRIPTION:
URL:https://rapidcprwi.com/event/bls-renewal-course-151/
LOCATION:Rapid CPR and First Aid\, 5610 Medical Circle\, Suite 24\, Madison\, WI\, 53719\, United States
ORGANIZER;CN="Rapid CPR and First Aid":MAILTO:rapidcprwi@gmail.com
END:VEVENT
BEGIN:VEVENT
DTSTART;TZID=America/Chicago:20250416T090000
DTEND;TZID=America/Chicago:20250416T130000
DTSTAMP:20260423T151442
CREATED:20250301T201848Z
LAST-MODIFIED:20250301T201848Z
UID:10000661-1744794000-1744808400@rapidcprwi.com
SUMMARY:BLS Full Course
DESCRIPTION:
URL:https://rapidcprwi.com/event/bls-full-course-134/
LOCATION:Rapid CPR and First Aid\, 5610 Medical Circle\, Suite 24\, Madison\, WI\, 53719\, United States
CATEGORIES:BLS Course
ORGANIZER;CN="Rapid CPR and First Aid":MAILTO:rapidcprwi@gmail.com
END:VEVENT
BEGIN:VEVENT
DTSTART;TZID=America/Chicago:20250416T083000
DTEND;TZID=America/Chicago:20250416T093000
DTSTAMP:20260423T151442
CREATED:20250301T204109Z
LAST-MODIFIED:20250301T204109Z
UID:10000687-1744792200-1744795800@rapidcprwi.com
SUMMARY:BLS Skills Session
DESCRIPTION:
URL:https://rapidcprwi.com/event/bls-skills-session-152/
LOCATION:Rapid CPR and First Aid\, 5610 Medical Circle\, Suite 24\, Madison\, WI\, 53719\, United States
ORGANIZER;CN="Rapid CPR and First Aid":MAILTO:rapidcprwi@gmail.com
END:VEVENT
BEGIN:VEVENT
DTSTART;TZID=America/Chicago:20250415T173000
DTEND;TZID=America/Chicago:20250415T210000
DTSTAMP:20260423T151442
CREATED:20250301T202923Z
LAST-MODIFIED:20250301T202923Z
UID:10000673-1744738200-1744750800@rapidcprwi.com
SUMMARY:BLS Renewal Course
DESCRIPTION:
URL:https://rapidcprwi.com/event/bls-renewal-course-150/
LOCATION:Rapid CPR and First Aid\, 5610 Medical Circle\, Suite 24\, Madison\, WI\, 53719\, United States
ORGANIZER;CN="Rapid CPR and First Aid":MAILTO:rapidcprwi@gmail.com
END:VEVENT
BEGIN:VEVENT
DTSTART;TZID=America/Chicago:20250415T173000
DTEND;TZID=America/Chicago:20250415T210000
DTSTAMP:20260423T151442
CREATED:20250301T201806Z
LAST-MODIFIED:20250301T201806Z
UID:10000660-1744738200-1744750800@rapidcprwi.com
SUMMARY:BLS Full Course
DESCRIPTION:
URL:https://rapidcprwi.com/event/bls-full-course-133/
LOCATION:Rapid CPR and First Aid\, 5610 Medical Circle\, Suite 24\, Madison\, WI\, 53719\, United States
CATEGORIES:BLS Course
ORGANIZER;CN="Rapid CPR and First Aid":MAILTO:rapidcprwi@gmail.com
END:VEVENT
BEGIN:VEVENT
DTSTART;TZID=America/Chicago:20250415T170000
DTEND;TZID=America/Chicago:20250415T180000
DTSTAMP:20260423T151442
CREATED:20250301T204030Z
LAST-MODIFIED:20250301T204030Z
UID:10000686-1744736400-1744740000@rapidcprwi.com
SUMMARY:BLS Skills Session
DESCRIPTION:
URL:https://rapidcprwi.com/event/bls-skills-session-151/
LOCATION:Rapid CPR and First Aid\, 5610 Medical Circle\, Suite 24\, Madison\, WI\, 53719\, United States
ORGANIZER;CN="Rapid CPR and First Aid":MAILTO:rapidcprwi@gmail.com
END:VEVENT
BEGIN:VEVENT
DTSTART;TZID=America/Chicago:20250415T160000
DTEND;TZID=America/Chicago:20250415T180000
DTSTAMP:20260423T151442
CREATED:20250301T204834Z
LAST-MODIFIED:20250301T204834Z
UID:10000697-1744732800-1744740000@rapidcprwi.com
SUMMARY:ACLS Skills Session
DESCRIPTION:
URL:https://rapidcprwi.com/event/acls-skills-session-95/
LOCATION:Rapid CPR and First Aid\, 5610 Medical Circle\, Suite 24\, Madison\, WI\, 53719\, United States
CATEGORIES:ACLS Skills Session
ORGANIZER;CN="Rapid CPR and First Aid":MAILTO:rapidcprwi@gmail.com
END:VEVENT
BEGIN:VEVENT
DTSTART;TZID=America/Chicago:20250410T173000
DTEND;TZID=America/Chicago:20250410T210000
DTSTAMP:20260423T151442
CREATED:20250301T202840Z
LAST-MODIFIED:20250301T202840Z
UID:10000672-1744306200-1744318800@rapidcprwi.com
SUMMARY:BLS Renewal Course
DESCRIPTION:
URL:https://rapidcprwi.com/event/bls-renewal-course-149/
LOCATION:Rapid CPR and First Aid\, 5610 Medical Circle\, Suite 24\, Madison\, WI\, 53719\, United States
ORGANIZER;CN="Rapid CPR and First Aid":MAILTO:rapidcprwi@gmail.com
END:VEVENT
BEGIN:VEVENT
DTSTART;TZID=America/Chicago:20250410T173000
DTEND;TZID=America/Chicago:20250410T210000
DTSTAMP:20260423T151442
CREATED:20250301T201726Z
LAST-MODIFIED:20250301T201726Z
UID:10000659-1744306200-1744318800@rapidcprwi.com
SUMMARY:BLS Full Course
DESCRIPTION:
URL:https://rapidcprwi.com/event/bls-full-course-132/
LOCATION:Rapid CPR and First Aid\, 5610 Medical Circle\, Suite 24\, Madison\, WI\, 53719\, United States
CATEGORIES:BLS Course
ORGANIZER;CN="Rapid CPR and First Aid":MAILTO:rapidcprwi@gmail.com
END:VEVENT
BEGIN:VEVENT
DTSTART;TZID=America/Chicago:20250410T170000
DTEND;TZID=America/Chicago:20250410T180000
DTSTAMP:20260423T151442
CREATED:20250301T203943Z
LAST-MODIFIED:20250301T203943Z
UID:10000685-1744304400-1744308000@rapidcprwi.com
SUMMARY:BLS Skills Session
DESCRIPTION:
URL:https://rapidcprwi.com/event/bls-skills-session-150/
LOCATION:Rapid CPR and First Aid\, 5610 Medical Circle\, Suite 24\, Madison\, WI\, 53719\, United States
ORGANIZER;CN="Rapid CPR and First Aid":MAILTO:rapidcprwi@gmail.com
END:VEVENT
BEGIN:VEVENT
DTSTART;TZID=America/Chicago:20250410T160000
DTEND;TZID=America/Chicago:20250410T180000
DTSTAMP:20260423T151442
CREATED:20250301T205426Z
LAST-MODIFIED:20250301T205427Z
UID:10000705-1744300800-1744308000@rapidcprwi.com
SUMMARY:PALS Skills Session
DESCRIPTION:
URL:https://rapidcprwi.com/event/pals-skills-session-94/
LOCATION:Rapid CPR and First Aid\, 5610 Medical Circle\, Suite 24\, Madison\, WI\, 53719\, United States
CATEGORIES:PALS Skills Session
ORGANIZER;CN="Rapid CPR and First Aid":MAILTO:rapidcprwi@gmail.com
END:VEVENT
BEGIN:VEVENT
DTSTART;TZID=America/Chicago:20250408T173000
DTEND;TZID=America/Chicago:20250408T210000
DTSTAMP:20260423T151442
CREATED:20250301T202800Z
LAST-MODIFIED:20250301T202800Z
UID:10000671-1744133400-1744146000@rapidcprwi.com
SUMMARY:BLS Renewal Course
DESCRIPTION:
URL:https://rapidcprwi.com/event/bls-renewal-course-148/
LOCATION:Rapid CPR and First Aid\, 5610 Medical Circle\, Suite 24\, Madison\, WI\, 53719\, United States
ORGANIZER;CN="Rapid CPR and First Aid":MAILTO:rapidcprwi@gmail.com
END:VEVENT
BEGIN:VEVENT
DTSTART;TZID=America/Chicago:20250408T173000
DTEND;TZID=America/Chicago:20250408T210000
DTSTAMP:20260423T151442
CREATED:20250301T201640Z
LAST-MODIFIED:20250301T201640Z
UID:10000658-1744133400-1744146000@rapidcprwi.com
SUMMARY:BLS Full Course
DESCRIPTION:
URL:https://rapidcprwi.com/event/bls-full-course-131/
LOCATION:Rapid CPR and First Aid\, 5610 Medical Circle\, Suite 24\, Madison\, WI\, 53719\, United States
CATEGORIES:BLS Course
ORGANIZER;CN="Rapid CPR and First Aid":MAILTO:rapidcprwi@gmail.com
END:VEVENT
BEGIN:VEVENT
DTSTART;TZID=America/Chicago:20250408T170000
DTEND;TZID=America/Chicago:20250408T180000
DTSTAMP:20260423T151442
CREATED:20250301T203849Z
LAST-MODIFIED:20250301T203849Z
UID:10000684-1744131600-1744135200@rapidcprwi.com
SUMMARY:BLS Skills Session
DESCRIPTION:
URL:https://rapidcprwi.com/event/bls-skills-session-149/
LOCATION:Rapid CPR and First Aid\, 5610 Medical Circle\, Suite 24\, Madison\, WI\, 53719\, United States
ORGANIZER;CN="Rapid CPR and First Aid":MAILTO:rapidcprwi@gmail.com
END:VEVENT
BEGIN:VEVENT
DTSTART;TZID=America/Chicago:20250408T160000
DTEND;TZID=America/Chicago:20250408T180000
DTSTAMP:20260423T151442
CREATED:20250301T204756Z
LAST-MODIFIED:20250301T204756Z
UID:10000696-1744128000-1744135200@rapidcprwi.com
SUMMARY:ACLS Skills Session
DESCRIPTION:
URL:https://rapidcprwi.com/event/acls-skills-session-94/
LOCATION:Rapid CPR and First Aid\, 5610 Medical Circle\, Suite 24\, Madison\, WI\, 53719\, United States
CATEGORIES:ACLS Skills Session
ORGANIZER;CN="Rapid CPR and First Aid":MAILTO:rapidcprwi@gmail.com
END:VEVENT
BEGIN:VEVENT
DTSTART;TZID=America/Chicago:20250403T173000
DTEND;TZID=America/Chicago:20250403T210000
DTSTAMP:20260423T151442
CREATED:20250301T202655Z
LAST-MODIFIED:20250301T202655Z
UID:10000670-1743701400-1743714000@rapidcprwi.com
SUMMARY:BLS Renewal Course
DESCRIPTION:
URL:https://rapidcprwi.com/event/bls-renewal-course-147/
LOCATION:Rapid CPR and First Aid\, 5610 Medical Circle\, Suite 24\, Madison\, WI\, 53719\, United States
ORGANIZER;CN="Rapid CPR and First Aid":MAILTO:rapidcprwi@gmail.com
END:VEVENT
BEGIN:VEVENT
DTSTART;TZID=America/Chicago:20250403T173000
DTEND;TZID=America/Chicago:20250403T210000
DTSTAMP:20260423T151442
CREATED:20250301T201537Z
LAST-MODIFIED:20250301T201537Z
UID:10000657-1743701400-1743714000@rapidcprwi.com
SUMMARY:BLS Full Course
DESCRIPTION:
URL:https://rapidcprwi.com/event/bls-full-course-130/
LOCATION:Rapid CPR and First Aid\, 5610 Medical Circle\, Suite 24\, Madison\, WI\, 53719\, United States
CATEGORIES:BLS Course
ORGANIZER;CN="Rapid CPR and First Aid":MAILTO:rapidcprwi@gmail.com
END:VEVENT
BEGIN:VEVENT
DTSTART;TZID=America/Chicago:20250403T170000
DTEND;TZID=America/Chicago:20250403T180000
DTSTAMP:20260423T151442
CREATED:20250301T203803Z
LAST-MODIFIED:20250301T203803Z
UID:10000683-1743699600-1743703200@rapidcprwi.com
SUMMARY:BLS Skills Session
DESCRIPTION:
URL:https://rapidcprwi.com/event/bls-skills-session-148/
LOCATION:Rapid CPR and First Aid\, 5610 Medical Circle\, Suite 24\, Madison\, WI\, 53719\, United States
ORGANIZER;CN="Rapid CPR and First Aid":MAILTO:rapidcprwi@gmail.com
END:VEVENT
BEGIN:VEVENT
DTSTART;TZID=America/Chicago:20250403T160000
DTEND;TZID=America/Chicago:20250403T180000
DTSTAMP:20260423T151442
CREATED:20250301T205340Z
LAST-MODIFIED:20250301T205340Z
UID:10000704-1743696000-1743703200@rapidcprwi.com
SUMMARY:PALS Skills Session
DESCRIPTION:
URL:https://rapidcprwi.com/event/pals-skills-session-93/
LOCATION:Rapid CPR and First Aid\, 5610 Medical Circle\, Suite 24\, Madison\, WI\, 53719\, United States
CATEGORIES:PALS Skills Session
ORGANIZER;CN="Rapid CPR and First Aid":MAILTO:rapidcprwi@gmail.com
END:VEVENT
BEGIN:VEVENT
DTSTART;TZID=America/Chicago:20250402T130000
DTEND;TZID=America/Chicago:20250402T150000
DTSTAMP:20260423T151442
CREATED:20250301T205303Z
LAST-MODIFIED:20250301T205303Z
UID:10000703-1743598800-1743606000@rapidcprwi.com
SUMMARY:PALS Skills Session
DESCRIPTION:
URL:https://rapidcprwi.com/event/pals-skills-session-92/
LOCATION:Rapid CPR and First Aid\, 5610 Medical Circle\, Suite 24\, Madison\, WI\, 53719\, United States
CATEGORIES:PALS Skills Session
ORGANIZER;CN="Rapid CPR and First Aid":MAILTO:rapidcprwi@gmail.com
END:VEVENT
BEGIN:VEVENT
DTSTART;TZID=America/Chicago:20250402T110000
DTEND;TZID=America/Chicago:20250402T130000
DTSTAMP:20260423T151442
CREATED:20250301T204707Z
LAST-MODIFIED:20250301T204707Z
UID:10000695-1743591600-1743598800@rapidcprwi.com
SUMMARY:ACLS Skills Session
DESCRIPTION:
URL:https://rapidcprwi.com/event/acls-skills-session-93/
LOCATION:Rapid CPR and First Aid\, 5610 Medical Circle\, Suite 24\, Madison\, WI\, 53719\, United States
CATEGORIES:ACLS Skills Session
ORGANIZER;CN="Rapid CPR and First Aid":MAILTO:rapidcprwi@gmail.com
END:VEVENT
BEGIN:VEVENT
DTSTART;TZID=America/Chicago:20250402T090000
DTEND;TZID=America/Chicago:20250402T130000
DTSTAMP:20260423T151442
CREATED:20250301T202613Z
LAST-MODIFIED:20250301T202613Z
UID:10000669-1743584400-1743598800@rapidcprwi.com
SUMMARY:BLS Renewal Course
DESCRIPTION:
URL:https://rapidcprwi.com/event/bls-renewal-course-146/
LOCATION:Rapid CPR and First Aid\, 5610 Medical Circle\, Suite 24\, Madison\, WI\, 53719\, United States
ORGANIZER;CN="Rapid CPR and First Aid":MAILTO:rapidcprwi@gmail.com
END:VEVENT
BEGIN:VEVENT
DTSTART;TZID=America/Chicago:20250402T090000
DTEND;TZID=America/Chicago:20250402T130000
DTSTAMP:20260423T151442
CREATED:20250301T201425Z
LAST-MODIFIED:20250301T201425Z
UID:10000656-1743584400-1743598800@rapidcprwi.com
SUMMARY:BLS Full Course
DESCRIPTION:
URL:https://rapidcprwi.com/event/bls-full-course-129/
LOCATION:Rapid CPR and First Aid\, 5610 Medical Circle\, Suite 24\, Madison\, WI\, 53719\, United States
CATEGORIES:BLS Course
ORGANIZER;CN="Rapid CPR and First Aid":MAILTO:rapidcprwi@gmail.com
END:VEVENT
BEGIN:VEVENT
DTSTART;TZID=America/Chicago:20250402T083000
DTEND;TZID=America/Chicago:20250402T093000
DTSTAMP:20260423T151442
CREATED:20250301T203649Z
LAST-MODIFIED:20250301T203649Z
UID:10000682-1743582600-1743586200@rapidcprwi.com
SUMMARY:BLS Skills Session
DESCRIPTION:
URL:https://rapidcprwi.com/event/bls-skills-session-147/
LOCATION:Rapid CPR and First Aid\, 5610 Medical Circle\, Suite 24\, Madison\, WI\, 53719\, United States
ORGANIZER;CN="Rapid CPR and First Aid":MAILTO:rapidcprwi@gmail.com
END:VEVENT
BEGIN:VEVENT
DTSTART;TZID=America/Chicago:20250401T173000
DTEND;TZID=America/Chicago:20250401T210000
DTSTAMP:20260423T151442
CREATED:20250301T202535Z
LAST-MODIFIED:20250301T202535Z
UID:10000668-1743528600-1743541200@rapidcprwi.com
SUMMARY:BLS Renewal Course
DESCRIPTION:
URL:https://rapidcprwi.com/event/bls-renewal-course-145/
LOCATION:WI
ORGANIZER;CN="Rapid CPR and First Aid":MAILTO:rapidcprwi@gmail.com
END:VEVENT
BEGIN:VEVENT
DTSTART;TZID=America/Chicago:20250401T173000
DTEND;TZID=America/Chicago:20250401T210000
DTSTAMP:20260423T151442
CREATED:20250301T201339Z
LAST-MODIFIED:20250301T201339Z
UID:10000655-1743528600-1743541200@rapidcprwi.com
SUMMARY:BLS Full Course
DESCRIPTION:
URL:https://rapidcprwi.com/event/bls-full-course-128/
LOCATION:Rapid CPR and First Aid\, 5610 Medical Circle\, Suite 24\, Madison\, WI\, 53719\, United States
CATEGORIES:BLS Course
ORGANIZER;CN="Rapid CPR and First Aid":MAILTO:rapidcprwi@gmail.com
END:VEVENT
BEGIN:VEVENT
DTSTART;TZID=America/Chicago:20250401T170000
DTEND;TZID=America/Chicago:20250401T180000
DTSTAMP:20260423T151442
CREATED:20250301T203607Z
LAST-MODIFIED:20250301T203607Z
UID:10000681-1743526800-1743530400@rapidcprwi.com
SUMMARY:BLS Skills Session
DESCRIPTION:
URL:https://rapidcprwi.com/event/bls-skills-session-146/
LOCATION:Rapid CPR and First Aid\, 5610 Medical Circle\, Suite 24\, Madison\, WI\, 53719\, United States
ORGANIZER;CN="Rapid CPR and First Aid":MAILTO:rapidcprwi@gmail.com
END:VEVENT
BEGIN:VEVENT
DTSTART;TZID=America/Chicago:20250401T160000
DTEND;TZID=America/Chicago:20250401T180000
DTSTAMP:20260423T151442
CREATED:20250301T204616Z
LAST-MODIFIED:20250301T204616Z
UID:10000694-1743523200-1743530400@rapidcprwi.com
SUMMARY:ACLS Skills Session
DESCRIPTION:
URL:https://rapidcprwi.com/event/acls-skills-session-92/
LOCATION:Rapid CPR and First Aid\, 5610 Medical Circle\, Suite 24\, Madison\, WI\, 53719\, United States
CATEGORIES:ACLS Skills Session
ORGANIZER;CN="Rapid CPR and First Aid":MAILTO:rapidcprwi@gmail.com
END:VEVENT
BEGIN:VEVENT
DTSTART;TZID=America/Chicago:20250318T173000
DTEND;TZID=America/Chicago:20250318T210000
DTSTAMP:20260423T151442
CREATED:20250216T230407Z
LAST-MODIFIED:20250216T230407Z
UID:10000638-1742319000-1742331600@rapidcprwi.com
SUMMARY:BLS Renewal Course
DESCRIPTION:
URL:https://rapidcprwi.com/event/bls-renewal-course-143/
LOCATION:Rapid CPR and First Aid\, 5610 Medical Circle\, Suite 24\, Madison\, WI\, 53719\, United States
ORGANIZER;CN="Rapid CPR and First Aid":MAILTO:rapidcprwi@gmail.com
END:VEVENT
BEGIN:VEVENT
DTSTART;TZID=America/Chicago:20250318T173000
DTEND;TZID=America/Chicago:20250318T210000
DTSTAMP:20260423T151442
CREATED:20250216T225537Z
LAST-MODIFIED:20250216T225537Z
UID:10000631-1742319000-1742331600@rapidcprwi.com
SUMMARY:BLS Full Course
DESCRIPTION:
URL:https://rapidcprwi.com/event/bls-full-course-126/
LOCATION:Rapid CPR and First Aid\, 5610 Medical Circle\, Suite 24\, Madison\, WI\, 53719\, United States
CATEGORIES:BLS Course
ORGANIZER;CN="Rapid CPR and First Aid":MAILTO:rapidcprwi@gmail.com
END:VEVENT
END:VCALENDAR