BEGIN:VCALENDAR
VERSION:2.0
PRODID:-//Rapid CPR and First Aid - ECPv6.15.20//NONSGML v1.0//EN
CALSCALE:GREGORIAN
METHOD:PUBLISH
X-WR-CALNAME:Rapid CPR and First Aid
X-ORIGINAL-URL:https://rapidcprwi.com
X-WR-CALDESC:Events for Rapid CPR and First Aid
REFRESH-INTERVAL;VALUE=DURATION:PT1H
X-Robots-Tag:noindex
X-PUBLISHED-TTL:PT1H
BEGIN:VTIMEZONE
TZID:America/Chicago
BEGIN:DAYLIGHT
TZOFFSETFROM:-0600
TZOFFSETTO:-0500
TZNAME:CDT
DTSTART:20240310T080000
END:DAYLIGHT
BEGIN:STANDARD
TZOFFSETFROM:-0500
TZOFFSETTO:-0600
TZNAME:CST
DTSTART:20241103T070000
END:STANDARD
BEGIN:DAYLIGHT
TZOFFSETFROM:-0600
TZOFFSETTO:-0500
TZNAME:CDT
DTSTART:20250309T080000
END:DAYLIGHT
BEGIN:STANDARD
TZOFFSETFROM:-0500
TZOFFSETTO:-0600
TZNAME:CST
DTSTART:20251102T070000
END:STANDARD
BEGIN:DAYLIGHT
TZOFFSETFROM:-0600
TZOFFSETTO:-0500
TZNAME:CDT
DTSTART:20260308T080000
END:DAYLIGHT
BEGIN:STANDARD
TZOFFSETFROM:-0500
TZOFFSETTO:-0600
TZNAME:CST
DTSTART:20261101T070000
END:STANDARD
END:VTIMEZONE
BEGIN:VEVENT
DTSTART;TZID=America/Chicago:20250825T173000
DTEND;TZID=America/Chicago:20250825T210000
DTSTAMP:20260423T182921
CREATED:20250719T194056Z
LAST-MODIFIED:20250719T194056Z
UID:10000845-1756143000-1756155600@rapidcprwi.com
SUMMARY:BLS Full Course
DESCRIPTION:
URL:https://rapidcprwi.com/event/bls-full-course-172/
LOCATION:Rapid CPR and First Aid\, 5610 Medical Circle\, Suite 24\, Madison\, WI\, 53719\, United States
CATEGORIES:BLS Course
ORGANIZER;CN="Rapid CPR and First Aid":MAILTO:rapidcprwi@gmail.com
END:VEVENT
BEGIN:VEVENT
DTSTART;TZID=America/Chicago:20250825T173000
DTEND;TZID=America/Chicago:20250825T210000
DTSTAMP:20260423T182921
CREATED:20250719T194529Z
LAST-MODIFIED:20250719T194529Z
UID:10000849-1756143000-1756155600@rapidcprwi.com
SUMMARY:BLS Renewal Course
DESCRIPTION:
URL:https://rapidcprwi.com/event/bls-renewal-course-188/
LOCATION:Rapid CPR and First Aid\, 5610 Medical Circle\, Suite 24\, Madison\, WI\, 53719\, United States
ORGANIZER;CN="Rapid CPR and First Aid":MAILTO:rapidcprwi@gmail.com
END:VEVENT
BEGIN:VEVENT
DTSTART;TZID=America/Chicago:20250826T173000
DTEND;TZID=America/Chicago:20250826T210000
DTSTAMP:20260423T182921
CREATED:20250512T205910Z
LAST-MODIFIED:20250627T215553Z
UID:10000761-1756229400-1756242000@rapidcprwi.com
SUMMARY:VaxPro BLS
DESCRIPTION:
URL:https://rapidcprwi.com/event/vaxpro-bls/
LOCATION:Rapid CPR and First Aid\, 5610 Medical Circle\, Suite 24\, Madison\, WI\, 53719\, United States
ORGANIZER;CN="Rapid CPR and First Aid":MAILTO:rapidcprwi@gmail.com
END:VEVENT
BEGIN:VEVENT
DTSTART;TZID=America/Chicago:20250827T083000
DTEND;TZID=America/Chicago:20250827T093000
DTSTAMP:20260423T182921
CREATED:20250719T194949Z
LAST-MODIFIED:20250719T194949Z
UID:10000854-1756283400-1756287000@rapidcprwi.com
SUMMARY:BLS Skills Session
DESCRIPTION:
URL:https://rapidcprwi.com/event/bls-skills-session-190/
LOCATION:Rapid CPR and First Aid\, 5610 Medical Circle\, Suite 24\, Madison\, WI\, 53719\, United States
ORGANIZER;CN="Rapid CPR and First Aid":MAILTO:rapidcprwi@gmail.com
END:VEVENT
BEGIN:VEVENT
DTSTART;TZID=America/Chicago:20250827T090000
DTEND;TZID=America/Chicago:20250827T130000
DTSTAMP:20260423T182921
CREATED:20250719T194155Z
LAST-MODIFIED:20250719T194155Z
UID:10000846-1756285200-1756299600@rapidcprwi.com
SUMMARY:BLS Full Course
DESCRIPTION:
URL:https://rapidcprwi.com/event/bls-full-course-173/
LOCATION:Rapid CPR and First Aid\, 5610 Medical Circle\, Suite 24\, Madison\, WI\, 53719\, United States
CATEGORIES:BLS Course
ORGANIZER;CN="Rapid CPR and First Aid":MAILTO:rapidcprwi@gmail.com
END:VEVENT
BEGIN:VEVENT
DTSTART;TZID=America/Chicago:20250827T090000
DTEND;TZID=America/Chicago:20250827T130000
DTSTAMP:20260423T182921
CREATED:20250719T194636Z
LAST-MODIFIED:20250719T194636Z
UID:10000850-1756285200-1756299600@rapidcprwi.com
SUMMARY:BLS Renewal Course
DESCRIPTION:
URL:https://rapidcprwi.com/event/bls-renewal-course-189/
LOCATION:Rapid CPR and First Aid\, 5610 Medical Circle\, Suite 24\, Madison\, WI\, 53719\, United States
ORGANIZER;CN="Rapid CPR and First Aid":MAILTO:rapidcprwi@gmail.com
END:VEVENT
BEGIN:VEVENT
DTSTART;TZID=America/Chicago:20250827T110000
DTEND;TZID=America/Chicago:20250827T130000
DTSTAMP:20260423T182921
CREATED:20250719T195232Z
LAST-MODIFIED:20250719T195232Z
UID:10000857-1756292400-1756299600@rapidcprwi.com
SUMMARY:ACLS Skills Session
DESCRIPTION:
URL:https://rapidcprwi.com/event/acls-skills-session-118/
LOCATION:Rapid CPR and First Aid\, 5610 Medical Circle\, Suite 24\, Madison\, WI\, 53719\, United States
CATEGORIES:ACLS Skills Session
ORGANIZER;CN="Rapid CPR and First Aid":MAILTO:rapidcprwi@gmail.com
END:VEVENT
BEGIN:VEVENT
DTSTART;TZID=America/Chicago:20250828T173000
DTEND;TZID=America/Chicago:20250828T210000
DTSTAMP:20260423T182921
CREATED:20250512T210019Z
LAST-MODIFIED:20250813T190240Z
UID:10000762-1756402200-1756414800@rapidcprwi.com
SUMMARY:VaxPro BLS
DESCRIPTION:
URL:https://rapidcprwi.com/event/vaxpro-bls-2/
LOCATION:Rapid CPR and First Aid\, 5610 Medical Circle\, Suite 24\, Madison\, WI\, 53719\, United States
ORGANIZER;CN="Rapid CPR and First Aid":MAILTO:rapidcprwi@gmail.com
END:VEVENT
BEGIN:VEVENT
DTSTART;TZID=America/Chicago:20250902T160000
DTEND;TZID=America/Chicago:20250902T180000
DTSTAMP:20260423T182921
CREATED:20250813T195937Z
LAST-MODIFIED:20250813T195937Z
UID:10000894-1756828800-1756836000@rapidcprwi.com
SUMMARY:ACLS Skills Session
DESCRIPTION:
URL:https://rapidcprwi.com/event/acls-skills-session-119/
LOCATION:Rapid CPR and First Aid\, 5610 Medical Circle\, Suite 24\, Madison\, WI\, 53719\, United States
CATEGORIES:ACLS Skills Session
ORGANIZER;CN="Rapid CPR and First Aid":MAILTO:rapidcprwi@gmail.com
END:VEVENT
BEGIN:VEVENT
DTSTART;TZID=America/Chicago:20250902T170000
DTEND;TZID=America/Chicago:20250902T180000
DTSTAMP:20260423T182921
CREATED:20250813T194621Z
LAST-MODIFIED:20250908T184809Z
UID:10000882-1756832400-1756836000@rapidcprwi.com
SUMMARY:BLS Skills Session
DESCRIPTION:
URL:https://rapidcprwi.com/event/bls-skills-session-191/
LOCATION:Rapid CPR and First Aid\, 5610 Medical Circle\, Suite 24\, Madison\, WI\, 53719\, United States
CATEGORIES:BLS Skill Session
ORGANIZER;CN="Rapid CPR and First Aid":MAILTO:rapidcprwi@gmail.com
END:VEVENT
BEGIN:VEVENT
DTSTART;TZID=America/Chicago:20250902T173000
DTEND;TZID=America/Chicago:20250902T210000
DTSTAMP:20260423T182921
CREATED:20250810T010530Z
LAST-MODIFIED:20250810T010530Z
UID:10000858-1756834200-1756846800@rapidcprwi.com
SUMMARY:BLS Full Course
DESCRIPTION:
URL:https://rapidcprwi.com/event/bls-full-course-174/
LOCATION:Rapid CPR and First Aid\, 5610 Medical Circle\, Suite 24\, Madison\, WI\, 53719\, United States
CATEGORIES:BLS Course
ORGANIZER;CN="Rapid CPR and First Aid":MAILTO:rapidcprwi@gmail.com
END:VEVENT
BEGIN:VEVENT
DTSTART;TZID=America/Chicago:20250902T173000
DTEND;TZID=America/Chicago:20250902T210000
DTSTAMP:20260423T182921
CREATED:20250813T193533Z
LAST-MODIFIED:20250908T184155Z
UID:10000870-1756834200-1756846800@rapidcprwi.com
SUMMARY:BLS Renewal Course
DESCRIPTION:
URL:https://rapidcprwi.com/event/bls-renewal-course-190/
LOCATION:Rapid CPR and First Aid\, 5610 Medical Circle\, Suite 24\, Madison\, WI\, 53719\, United States
CATEGORIES:BLS Renewal Course
ORGANIZER;CN="Rapid CPR and First Aid":MAILTO:rapidcprwi@gmail.com
END:VEVENT
BEGIN:VEVENT
DTSTART;TZID=America/Chicago:20250903T083000
DTEND;TZID=America/Chicago:20250903T093000
DTSTAMP:20260423T182921
CREATED:20250813T194703Z
LAST-MODIFIED:20250908T184808Z
UID:10000883-1756888200-1756891800@rapidcprwi.com
SUMMARY:BLS Skills Session
DESCRIPTION:
URL:https://rapidcprwi.com/event/bls-skills-session-192/
LOCATION:Rapid CPR and First Aid\, 5610 Medical Circle\, Suite 24\, Madison\, WI\, 53719\, United States
CATEGORIES:BLS Skill Session
ORGANIZER;CN="Rapid CPR and First Aid":MAILTO:rapidcprwi@gmail.com
END:VEVENT
BEGIN:VEVENT
DTSTART;TZID=America/Chicago:20250903T090000
DTEND;TZID=America/Chicago:20250903T130000
DTSTAMP:20260423T182921
CREATED:20250813T192335Z
LAST-MODIFIED:20250813T192335Z
UID:10000860-1756890000-1756904400@rapidcprwi.com
SUMMARY:BLS Full Course
DESCRIPTION:
URL:https://rapidcprwi.com/event/bls-full-course-176/
LOCATION:Rapid CPR and First Aid\, 5610 Medical Circle\, Suite 24\, Madison\, WI\, 53719\, United States
CATEGORIES:BLS Course
ORGANIZER;CN="Rapid CPR and First Aid":MAILTO:rapidcprwi@gmail.com
END:VEVENT
BEGIN:VEVENT
DTSTART;TZID=America/Chicago:20250903T090000
DTEND;TZID=America/Chicago:20250903T130000
DTSTAMP:20260423T182921
CREATED:20250813T193615Z
LAST-MODIFIED:20250908T184155Z
UID:10000871-1756890000-1756904400@rapidcprwi.com
SUMMARY:BLS Renewal Course
DESCRIPTION:
URL:https://rapidcprwi.com/event/bls-renewal-course-191/
LOCATION:Rapid CPR and First Aid\, 5610 Medical Circle\, Suite 24\, Madison\, WI\, 53719\, United States
CATEGORIES:BLS Renewal Course
ORGANIZER;CN="Rapid CPR and First Aid":MAILTO:rapidcprwi@gmail.com
END:VEVENT
BEGIN:VEVENT
DTSTART;TZID=America/Chicago:20250903T110000
DTEND;TZID=America/Chicago:20250903T130000
DTSTAMP:20260423T182921
CREATED:20250813T200024Z
LAST-MODIFIED:20250813T200024Z
UID:10000895-1756897200-1756904400@rapidcprwi.com
SUMMARY:ACLS Skills Session
DESCRIPTION:
URL:https://rapidcprwi.com/event/acls-skills-session-120/
LOCATION:Rapid CPR and First Aid\, 5610 Medical Circle\, Suite 24\, Madison\, WI\, 53719\, United States
CATEGORIES:ACLS Skills Session
ORGANIZER;CN="Rapid CPR and First Aid":MAILTO:rapidcprwi@gmail.com
END:VEVENT
BEGIN:VEVENT
DTSTART;TZID=America/Chicago:20250903T130000
DTEND;TZID=America/Chicago:20250903T150000
DTSTAMP:20260423T182921
CREATED:20250813T200602Z
LAST-MODIFIED:20250813T200602Z
UID:10000902-1756904400-1756911600@rapidcprwi.com
SUMMARY:PALS Skills Session
DESCRIPTION:
URL:https://rapidcprwi.com/event/pals-skills-session-114/
LOCATION:Rapid CPR and First Aid\, 5610 Medical Circle\, Suite 24\, Madison\, WI\, 53719\, United States
CATEGORIES:PALS Skills Session
ORGANIZER;CN="Rapid CPR and First Aid":MAILTO:rapidcprwi@gmail.com
END:VEVENT
BEGIN:VEVENT
DTSTART;TZID=America/Chicago:20250904T160000
DTEND;TZID=America/Chicago:20250904T180000
DTSTAMP:20260423T182921
CREATED:20250813T200647Z
LAST-MODIFIED:20250813T200647Z
UID:10000903-1757001600-1757008800@rapidcprwi.com
SUMMARY:PALS Skills Session
DESCRIPTION:
URL:https://rapidcprwi.com/event/pals-skills-session-115/
LOCATION:Rapid CPR and First Aid\, 5610 Medical Circle\, Suite 24\, Madison\, WI\, 53719\, United States
CATEGORIES:PALS Skills Session
ORGANIZER;CN="Rapid CPR and First Aid":MAILTO:rapidcprwi@gmail.com
END:VEVENT
BEGIN:VEVENT
DTSTART;TZID=America/Chicago:20250904T170000
DTEND;TZID=America/Chicago:20250904T180000
DTSTAMP:20260423T182921
CREATED:20250813T194755Z
LAST-MODIFIED:20250908T184808Z
UID:10000884-1757005200-1757008800@rapidcprwi.com
SUMMARY:BLS Skills Session
DESCRIPTION:
URL:https://rapidcprwi.com/event/bls-skills-session-193/
LOCATION:Rapid CPR and First Aid\, 5610 Medical Circle\, Suite 24\, Madison\, WI\, 53719\, United States
CATEGORIES:BLS Skill Session
ORGANIZER;CN="Rapid CPR and First Aid":MAILTO:rapidcprwi@gmail.com
END:VEVENT
BEGIN:VEVENT
DTSTART;TZID=America/Chicago:20250904T173000
DTEND;TZID=America/Chicago:20250904T210000
DTSTAMP:20260423T182921
CREATED:20250810T010813Z
LAST-MODIFIED:20250810T010813Z
UID:10000859-1757007000-1757019600@rapidcprwi.com
SUMMARY:BLS Full Course
DESCRIPTION:
URL:https://rapidcprwi.com/event/bls-full-course-175/
LOCATION:Rapid CPR and First Aid\, 5610 Medical Circle\, Suite 24\, Madison\, WI\, 53719\, United States
CATEGORIES:BLS Course
ORGANIZER;CN="Rapid CPR and First Aid":MAILTO:rapidcprwi@gmail.com
END:VEVENT
BEGIN:VEVENT
DTSTART;TZID=America/Chicago:20250904T173000
DTEND;TZID=America/Chicago:20250904T210000
DTSTAMP:20260423T182921
CREATED:20250813T193702Z
LAST-MODIFIED:20250908T184155Z
UID:10000872-1757007000-1757019600@rapidcprwi.com
SUMMARY:BLS Renewal Course
DESCRIPTION:
URL:https://rapidcprwi.com/event/bls-renewal-course-192/
LOCATION:Rapid CPR and First Aid\, 5610 Medical Circle\, Suite 24\, Madison\, WI\, 53719\, United States
CATEGORIES:BLS Renewal Course
ORGANIZER;CN="Rapid CPR and First Aid":MAILTO:rapidcprwi@gmail.com
END:VEVENT
BEGIN:VEVENT
DTSTART;TZID=America/Chicago:20250909T160000
DTEND;TZID=America/Chicago:20250909T180000
DTSTAMP:20260423T182921
CREATED:20250813T200107Z
LAST-MODIFIED:20250813T200107Z
UID:10000896-1757433600-1757440800@rapidcprwi.com
SUMMARY:ACLS Skills Session
DESCRIPTION:
URL:https://rapidcprwi.com/event/acls-skills-session-121/
LOCATION:Rapid CPR and First Aid\, 5610 Medical Circle\, Suite 24\, Madison\, WI\, 53719\, United States
CATEGORIES:ACLS Skills Session
ORGANIZER;CN="Rapid CPR and First Aid":MAILTO:rapidcprwi@gmail.com
END:VEVENT
BEGIN:VEVENT
DTSTART;TZID=America/Chicago:20250909T170000
DTEND;TZID=America/Chicago:20250909T180000
DTSTAMP:20260423T182921
CREATED:20250813T194844Z
LAST-MODIFIED:20250908T184808Z
UID:10000885-1757437200-1757440800@rapidcprwi.com
SUMMARY:BLS Skills Session
DESCRIPTION:
URL:https://rapidcprwi.com/event/bls-skills-session-194/
LOCATION:Rapid CPR and First Aid\, 5610 Medical Circle\, Suite 24\, Madison\, WI\, 53719\, United States
CATEGORIES:BLS Skill Session
ORGANIZER;CN="Rapid CPR and First Aid":MAILTO:rapidcprwi@gmail.com
END:VEVENT
BEGIN:VEVENT
DTSTART;TZID=America/Chicago:20250909T173000
DTEND;TZID=America/Chicago:20250909T210000
DTSTAMP:20260423T182921
CREATED:20250813T192441Z
LAST-MODIFIED:20250813T192441Z
UID:10000861-1757439000-1757451600@rapidcprwi.com
SUMMARY:BLS Full Course
DESCRIPTION:
URL:https://rapidcprwi.com/event/bls-full-course-177/
LOCATION:Rapid CPR and First Aid\, 5610 Medical Circle\, Suite 24\, Madison\, WI\, 53719\, United States
CATEGORIES:BLS Course
ORGANIZER;CN="Rapid CPR and First Aid":MAILTO:rapidcprwi@gmail.com
END:VEVENT
BEGIN:VEVENT
DTSTART;TZID=America/Chicago:20250909T173000
DTEND;TZID=America/Chicago:20250909T210000
DTSTAMP:20260423T182921
CREATED:20250813T193751Z
LAST-MODIFIED:20250908T184154Z
UID:10000873-1757439000-1757451600@rapidcprwi.com
SUMMARY:BLS Renewal Course
DESCRIPTION:
URL:https://rapidcprwi.com/event/bls-renewal-course-193/
LOCATION:Rapid CPR and First Aid\, 5610 Medical Circle\, Suite 24\, Madison\, WI\, 53719\, United States
CATEGORIES:BLS Renewal Course
ORGANIZER;CN="Rapid CPR and First Aid":MAILTO:rapidcprwi@gmail.com
END:VEVENT
BEGIN:VEVENT
DTSTART;TZID=America/Chicago:20250910T083000
DTEND;TZID=America/Chicago:20250910T093000
DTSTAMP:20260423T182921
CREATED:20250813T194933Z
LAST-MODIFIED:20250908T184807Z
UID:10000886-1757493000-1757496600@rapidcprwi.com
SUMMARY:BLS Skills Session
DESCRIPTION:
URL:https://rapidcprwi.com/event/bls-skills-session-195/
LOCATION:Rapid CPR and First Aid\, 5610 Medical Circle\, Suite 24\, Madison\, WI\, 53719\, United States
CATEGORIES:BLS Skill Session
ORGANIZER;CN="Rapid CPR and First Aid":MAILTO:rapidcprwi@gmail.com
END:VEVENT
BEGIN:VEVENT
DTSTART;TZID=America/Chicago:20250910T090000
DTEND;TZID=America/Chicago:20250910T130000
DTSTAMP:20260423T182921
CREATED:20250813T192536Z
LAST-MODIFIED:20250813T192536Z
UID:10000862-1757494800-1757509200@rapidcprwi.com
SUMMARY:BLS Full Course
DESCRIPTION:
URL:https://rapidcprwi.com/event/bls-full-course-178/
LOCATION:Rapid CPR and First Aid\, 5610 Medical Circle\, Suite 24\, Madison\, WI\, 53719\, United States
CATEGORIES:BLS Course
ORGANIZER;CN="Rapid CPR and First Aid":MAILTO:rapidcprwi@gmail.com
END:VEVENT
BEGIN:VEVENT
DTSTART;TZID=America/Chicago:20250910T090000
DTEND;TZID=America/Chicago:20250910T130000
DTSTAMP:20260423T182921
CREATED:20250813T193846Z
LAST-MODIFIED:20250908T184154Z
UID:10000874-1757494800-1757509200@rapidcprwi.com
SUMMARY:BLS Renewal Course
DESCRIPTION:
URL:https://rapidcprwi.com/event/bls-renewal-course-194/
LOCATION:Rapid CPR and First Aid\, 5610 Medical Circle\, Suite 24\, Madison\, WI\, 53719\, United States
CATEGORIES:BLS Renewal Course
ORGANIZER;CN="Rapid CPR and First Aid":MAILTO:rapidcprwi@gmail.com
END:VEVENT
BEGIN:VEVENT
DTSTART;TZID=America/Chicago:20250910T110000
DTEND;TZID=America/Chicago:20250910T130000
DTSTAMP:20260423T182921
CREATED:20250813T200156Z
LAST-MODIFIED:20250813T200156Z
UID:10000897-1757502000-1757509200@rapidcprwi.com
SUMMARY:ACLS Skills Session
DESCRIPTION:
URL:https://rapidcprwi.com/event/acls-skills-session-122/
LOCATION:Rapid CPR and First Aid\, 5610 Medical Circle\, Suite 24\, Madison\, WI\, 53719\, United States
CATEGORIES:ACLS Skills Session
ORGANIZER;CN="Rapid CPR and First Aid":MAILTO:rapidcprwi@gmail.com
END:VEVENT
BEGIN:VEVENT
DTSTART;TZID=America/Chicago:20250910T130000
DTEND;TZID=America/Chicago:20250910T150000
DTSTAMP:20260423T182921
CREATED:20250813T200739Z
LAST-MODIFIED:20250813T200739Z
UID:10000904-1757509200-1757516400@rapidcprwi.com
SUMMARY:PALS Skills Session
DESCRIPTION:
URL:https://rapidcprwi.com/event/pals-skills-session-116/
LOCATION:Rapid CPR and First Aid\, 5610 Medical Circle\, Suite 24\, Madison\, WI\, 53719\, United States
CATEGORIES:PALS Skills Session
ORGANIZER;CN="Rapid CPR and First Aid":MAILTO:rapidcprwi@gmail.com
END:VEVENT
END:VCALENDAR